OziExplorer Map Data File Version 2.0
568.bmp
C:\Mapas\50\568.bmp
1 TIFF scale factor
European 1979
Reserved 1
Reserved 2
Magnetic Variation,,,E
Map Projection,(UTM) Universal Transverse Mercator
Point01,xy, 126, 83,in, deg, , ,, , ,, grid, 30, 683000, 4485000,N
Point02,xy, 102, 1031,in, deg, , ,, , ,, grid, 30, 683000, 4477000,N
Point03,xy, 73, 2096,in, deg, , ,, , ,, grid, 30, 683000, 4468000,N
Point04,xy, 1778, 131,in, deg, , ,, , ,, grid, 30, 697000, 4485000,N
Point05,xy, 1755, 1080,in, deg, , ,, , ,, grid, 30, 697000, 4477000,N
Point06,xy, 1724, 2146,in, deg, , ,, , ,, grid, 30, 697000, 4468000,N
Point07,xy, 3317, 57,in, deg, , ,, , ,, grid, 30, 710000, 4486000,N
Point08,xy, 3289, 1124,in, deg, , ,, , ,, grid, 30, 710000, 4477000,N
Point09,xy, 3259, 2189,in, deg, , ,, , ,, grid, 30, 710000, 4468000,N
Point10,xy, , ,in, deg, , ,, , ,, grid, , , ,
Point11,xy, , ,in, deg, , ,, , ,, grid, , , ,
Point12,xy, , ,in, deg, , ,, , ,, grid, , , ,
Point13,xy, , ,in, deg, , ,, , ,, grid, , , ,
Point14,xy, , ,in, deg, , ,, , ,, grid, , , ,
Point15,xy, , ,in, deg, , ,, , ,, grid, , , ,
Point16,xy, , ,in, deg, , ,, , ,, grid, , , ,
Point17,xy, , ,in, deg, , ,, , ,, grid, , , ,
Point18,xy, , ,in, deg, , ,, , ,, grid, , , ,
Point19,xy, , ,in, deg, , ,, , ,, grid, , , ,
Point20,xy, , ,in, deg, , ,, , ,, grid, , , ,
Point21,xy, , ,in, deg, , ,, , ,, grid, , , ,
Point22,xy, , ,in, deg, , ,, , ,, grid, , , ,
Point23,xy, , ,in, deg, , ,, , ,, grid, , , ,
Point24,xy, , ,in, deg, , ,, , ,, grid, , , ,
Point25,xy, , ,in, deg, , ,, , ,, grid, , , ,
Point26,xy, , ,in, deg, , ,, , ,, grid, , , ,
Point27,xy, , ,in, deg, , ,, , ,, grid, , , ,
Point28,xy, , ,in, deg, , ,, , ,, grid, , , ,
Point29,xy, , ,in, deg, , ,, , ,, grid, , , ,
Point30,xy, , ,in, deg, , ,, , ,, grid, , , ,
Projection Setup,,,,,,,
Map Feature = MF ; Map Comment = MC These follow if they exist
Track File = TF These follow if they exist Moving Map Stuff = MM? These follow if they exist
MM0,Yes MM1A,0,0,2500,0,0,1395,2500,1395 MM1C, -0.853210, 40.501071, -0.603485, 40.501730, -0.853075, 40.395116, -0.603659, 40.395811
MM1B,8.468481
