OziExplorer Map Data File Version 2.0
544.bmp
C:\Mapas\50\544.bmp
1 TIFF scale factor
European 1979
Reserved 1
Reserved 2
Magnetic Variation,,,E
Map Projection,(UTM) Universal Transverse Mercator
Point01,xy, 154, 122,in, deg, , ,N, , ,W, grid, 30, 711000, 4504000,N
Point02,xy, 129, 1184,in, deg, , ,N, , ,W, grid, 30, 711000, 4495000,N
Point03,xy, 104, 2128,in, deg, , ,N, , ,W, grid, 30, 711000, 4487000,N
Point04,xy, 1687, 46,in, deg, , ,N, , ,W, grid, 30, 724000, 4505000,N
Point05,xy, 1658, 1228,in, deg, , ,N, , ,W, grid, 30, 724000, 4495000,N
Point06,xy, 1753, 2176,in, deg, , ,N, , ,W, grid, 30, 725000, 4487000,N
Point07,xy, 3219, 88,in, deg, , ,N, , ,W, grid, 30, 737000, 4505000,N
Point08,xy, 3308, 1269,in, deg, , ,N, , ,W, grid, 30, 738000, 4495000,N
Point09,xy, 3286, 2094,in, deg, , ,N, , ,W, grid, 30, 738000, 4488000,N
Point10,xy, , ,in, deg, , ,, , ,, grid, , , ,
Point11,xy, , ,in, deg, , ,, , ,, grid, , , ,
Point12,xy, , ,in, deg, , ,, , ,, grid, , , ,
Point13,xy, , ,in, deg, , ,, , ,, grid, , , ,
Point14,xy, , ,in, deg, , ,, , ,, grid, , , ,
Point15,xy, , ,in, deg, , ,, , ,, grid, , , ,
Point16,xy, , ,in, deg, , ,, , ,, grid, , , ,
Point17,xy, , ,in, deg, , ,, , ,, grid, , , ,
Point18,xy, , ,in, deg, , ,, , ,, grid, , , ,
Point19,xy, , ,in, deg, , ,, , ,, grid, , , ,
Point20,xy, , ,in, deg, , ,, , ,, grid, , , ,
Point21,xy, , ,in, deg, , ,, , ,, grid, , , ,
Point22,xy, , ,in, deg, , ,, , ,, grid, , , ,
Point23,xy, , ,in, deg, , ,, , ,, grid, , , ,
Point24,xy, , ,in, deg, , ,, , ,, grid, , , ,
Point25,xy, , ,in, deg, , ,, , ,, grid, , , ,
Point26,xy, , ,in, deg, , ,, , ,, grid, , , ,
Point27,xy, , ,in, deg, , ,, , ,, grid, , , ,
Point28,xy, , ,in, deg, , ,, , ,, grid, , , ,
Point29,xy, , ,in, deg, , ,, , ,, grid, , , ,
Point30,xy, , ,in, deg, , ,, , ,, grid, , , ,
Projection Setup,,,,,,,
Map Feature = MF ; Map Comment = MC These follow if they exist
Track File = TF These follow if they exist Moving Map Stuff = MM? These follow if they exist
MM0,Yes MM1A,0,0,3335,0,0,2192,3335,2192 MM1C, -0.519575, 40.668406, -0.184870, 40.667726, -0.520349, 40.501360, -0.186370, 40.500430
MM1B,8.490688
