OziExplorer Map Data File Version 2.2
THIES
THIES.png
1 ,Map Code,
Australian Geodetic 1984,, 0.0000, 0.0000,WGS 84
Reserved 1
Reserved 2
Magnetic Variation,,,E
Map Projection,Latitude/Longitude,PolyCal,Yes,AutoCalOnly,No,BSBUseWPX,No
Point01,xy, 95, 117,in, deg, 15, 0.0000,N, 17, 0.0000,W, grid, , , ,
Point02,xy, 1680, 111,in, deg, 15, 0.0000,N, 16, 30.0000,W, grid, , , ,
Point03,xy, 3264, 102,in, deg, 15, 0.0000,N, 16, 0.0000,W, grid, , , ,
Point04,xy, 94, 1753,in, deg, 14, 30.0000,N, 17, 0.0000,W, grid, , , ,
Point05,xy, 1684, 1743,in, deg, 14, 30.0000,N, 16, 30.0000,W, grid, , , ,
Point06,xy, 3274, 1736,in, deg, 14, 30.0000,N, 16, 0.0000,W, grid, , , ,
Point07,xy, 94, 3384,in, deg, 14, 0.0000,N, 17, 0.0000,W, grid, , , ,
Point08,xy, 1687, 3378,in, deg, 14, 0.0000,N, 16, 30.0000,W, grid, , , ,
Point09,xy, 3281, 3371,in, deg, 14, 0.0000,N, 16, 0.0000,W, grid, , , ,
Point10,xy, , ,in, deg, , ,, , ,, grid, , , ,
Point11,xy, , ,in, deg, , ,, , ,, grid, , , ,
Point12,xy, , ,in, deg, , ,, , ,, grid, , , ,
Point13,xy, , ,in, deg, , ,, , ,, grid, , , ,
Point14,xy, , ,in, deg, , ,, , ,, grid, , , ,
Point15,xy, , ,in, deg, , ,, , ,, grid, , , ,
Point16,xy, , ,in, deg, , ,, , ,, grid, , , ,
Point17,xy, , ,in, deg, , ,, , ,, grid, , , ,
Point18,xy, , ,in, deg, , ,, , ,, grid, , , ,
Point19,xy, , ,in, deg, , ,, , ,, grid, , , ,
Point20,xy, , ,in, deg, , ,, , ,, grid, , , ,
Point21,xy, , ,in, deg, , ,, , ,, grid, , , ,
Point22,xy, , ,in, deg, , ,, , ,, grid, , , ,
Point23,xy, , ,in, deg, , ,, , ,, grid, , , ,
Point24,xy, , ,in, deg, , ,, , ,, grid, , , ,
Point25,xy, , ,in, deg, , ,, , ,, grid, , , ,
Point26,xy, , ,in, deg, , ,, , ,, grid, , , ,
Point27,xy, , ,in, deg, , ,, , ,, grid, , , ,
Point28,xy, , ,in, deg, , ,, , ,, grid, , , ,
Point29,xy, , ,in, deg, , ,, , ,, grid, , , ,
Point30,xy, , ,in, deg, , ,, , ,, grid, , , ,
Projection Setup,,,,,,,,,,
Map Feature = MF ; Map Comment = MC These follow if they exist
Track File = TF These follow if they exist
Moving Map Parameters = MM? These follow if they exist
MM0,Yes
MMPNUM,4
MMPXY,1,0,2
MMPXY,2,3388,0
MMPXY,3,3406,3468
MMPXY,4,0,3483
MMPLL,1, -17.029917, 15.035627
MMPLL,2, -15.960847, 15.030981
MMPLL,3, -15.960983, 13.970024
MMPLL,4, -17.029295, 13.969994
MM1B,33.935423
MOP,Map Open Position,0,0
IWH,Map Image Width/Height,2500,1395
