OziExplorer Map Data File Version 2.2
TAMBACOUNDA_500
TAMBACOUNDA_500.png
1 ,Map Code,
Australian Geodetic 1984,, 0.0000, 0.0000,WGS 84
Reserved 1
Reserved 2
Magnetic Variation,,,E
Map Projection,Latitude/Longitude,PolyCal,Yes,AutoCalOnly,No,BSBUseWPX,No
Point01,xy, 156, 174,in, deg, 14, 0.0000,N, 15, 0.0000,W, grid, , , ,
Point02,xy, 2058, 162,in, deg, 14, 0.0000,N, 13, 30.0000,W, grid, , , ,
Point03,xy, 3956, 145,in, deg, 14, 0.0000,N, 12, 0.0000,W, grid, , , ,
Point04,xy, 158, 1472,in, deg, 13, 0.0000,N, 15, 0.0000,W, grid, , , ,
Point05,xy, 2069, 1462,in, deg, 13, 0.0000,N, 13, 30.0000,W, grid, , , ,
Point06,xy, 3972, 1446,in, deg, 13, 0.0000,N, 12, 0.0000,W, grid, , , ,
Point07,xy, 158, 2772,in, deg, 12, 0.0000,N, 15, 0.0000,W, grid, , , ,
Point08,xy, 2074, 2762,in, deg, 12, 0.0000,N, 13, 30.0000,W, grid, , , ,
Point09,xy, 3985, 2746,in, deg, 12, 0.0000,N, 12, 0.0000,W, grid, , , ,
Point10,xy, , ,in, deg, , ,, , ,, grid, , , ,
Point11,xy, , ,in, deg, , ,, , ,, grid, , , ,
Point12,xy, , ,in, deg, , ,, , ,, grid, , , ,
Point13,xy, , ,in, deg, , ,, , ,, grid, , , ,
Point14,xy, , ,in, deg, , ,, , ,, grid, , , ,
Point15,xy, , ,in, deg, , ,, , ,, grid, , , ,
Point16,xy, , ,in, deg, , ,, , ,, grid, , , ,
Point17,xy, , ,in, deg, , ,, , ,, grid, , , ,
Point18,xy, , ,in, deg, , ,, , ,, grid, , , ,
Point19,xy, , ,in, deg, , ,, , ,, grid, , , ,
Point20,xy, , ,in, deg, , ,, , ,, grid, , , ,
Point21,xy, , ,in, deg, , ,, , ,, grid, , , ,
Point22,xy, , ,in, deg, , ,, , ,, grid, , , ,
Point23,xy, , ,in, deg, , ,, , ,, grid, , , ,
Point24,xy, , ,in, deg, , ,, , ,, grid, , , ,
Point25,xy, , ,in, deg, , ,, , ,, grid, , , ,
Point26,xy, , ,in, deg, , ,, , ,, grid, , , ,
Point27,xy, , ,in, deg, , ,, , ,, grid, , , ,
Point28,xy, , ,in, deg, , ,, , ,, grid, , , ,
Point29,xy, , ,in, deg, , ,, , ,, grid, , , ,
Point30,xy, , ,in, deg, , ,, , ,, grid, , , ,
Projection Setup,,,,,,,,,,
Map Feature = MF ; Map Comment = MC These follow if they exist
Track File = TF These follow if they exist
Moving Map Parameters = MM? These follow if they exist
MM0,Yes
MMPNUM,4
MMPXY,1,0,0
MMPXY,2,4148,0
MMPXY,3,4183,2905
MMPXY,4,0,2933
MMPLL,1, -15.122017, 14.134229
MMPLL,2, -11.846129, 14.110025
MMPLL,3, -11.845392, 11.876540
MMPLL,4, -15.122994, 11.876377
MM1B,84.981019
MOP,Map Open Position,0,0
IWH,Map Image Width/Height,2500,1395
