OziExplorer Map Data File Version 2.2
MATAM_500
MATAM_500.png
1 ,Map Code,
Australian Geodetic 1984,, 0.0000, 0.0000,WGS 84
Reserved 1
Reserved 2
Magnetic Variation,,,E
Map Projection,Latitude/Longitude,PolyCal,Yes,AutoCalOnly,No,BSBUseWPX,No
Point01,xy, 156, 190,in, deg, 16, 0.0000,N, 15, 0.0000,W, grid, , , ,
Point02,xy, 2037, 170,in, deg, 16, 0.0000,N, 13, 30.0000,W, grid, , , ,
Point03,xy, 3918, 145,in, deg, 16, 0.0000,N, 12, 0.0000,W, grid, , , ,
Point04,xy, 161, 1490,in, deg, 15, 0.0000,N, 15, 0.0000,W, grid, , , ,
Point05,xy, 2053, 1473,in, deg, 15, 0.0000,N, 13, 30.0000,W, grid, , , ,
Point06,xy, 3941, 1448,in, deg, 15, 0.0000,N, 12, 0.0000,W, grid, , , ,
Point07,xy, 166, 2793,in, deg, 14, 0.0000,N, 15, 0.0000,W, grid, , , ,
Point08,xy, 2069, 2774,in, deg, 14, 0.0000,N, 13, 30.0000,W, grid, , , ,
Point09,xy, 3962, 2749,in, deg, 14, 0.0000,N, 12, 0.0000,W, grid, , , ,
Point10,xy, , ,in, deg, , ,, , ,, grid, , , ,
Point11,xy, , ,in, deg, , ,, , ,, grid, , , ,
Point12,xy, , ,in, deg, , ,, , ,, grid, , , ,
Point13,xy, , ,in, deg, , ,, , ,, grid, , , ,
Point14,xy, , ,in, deg, , ,, , ,, grid, , , ,
Point15,xy, , ,in, deg, , ,, , ,, grid, , , ,
Point16,xy, , ,in, deg, , ,, , ,, grid, , , ,
Point17,xy, , ,in, deg, , ,, , ,, grid, , , ,
Point18,xy, , ,in, deg, , ,, , ,, grid, , , ,
Point19,xy, , ,in, deg, , ,, , ,, grid, , , ,
Point20,xy, , ,in, deg, , ,, , ,, grid, , , ,
Point21,xy, , ,in, deg, , ,, , ,, grid, , , ,
Point22,xy, , ,in, deg, , ,, , ,, grid, , , ,
Point23,xy, , ,in, deg, , ,, , ,, grid, , , ,
Point24,xy, , ,in, deg, , ,, , ,, grid, , , ,
Point25,xy, , ,in, deg, , ,, , ,, grid, , , ,
Point26,xy, , ,in, deg, , ,, , ,, grid, , , ,
Point27,xy, , ,in, deg, , ,, , ,, grid, , , ,
Point28,xy, , ,in, deg, , ,, , ,, grid, , , ,
Point29,xy, , ,in, deg, , ,, , ,, grid, , , ,
Point30,xy, , ,in, deg, , ,, , ,, grid, , , ,
Projection Setup,,,,,,,,,,
Map Feature = MF ; Map Comment = MC These follow if they exist
Track File = TF These follow if they exist
Moving Map Parameters = MM? These follow if they exist
MM0,Yes
MMPNUM,4
MMPXY,1,0,0
MMPXY,2,4119,0
MMPXY,3,4173,2926
MMPXY,4,1,2973
MMPLL,1, -15.122638, 16.146420
MMPLL,2, -11.836685, 16.109073
MMPLL,3, -11.836184, 13.861936
MMPLL,4, -15.131100, 13.862310
MM1B,85.086214
MOP,Map Open Position,0,0
IWH,Map Image Width/Height,2500,1395
