OziExplorer Map Data File Version 2.2
MATAM
MATAM.png
1 ,Map Code,
Australian Geodetic 1984,, 0.0000, 0.0000,WGS 84
Reserved 1
Reserved 2
Magnetic Variation,,,E
Map Projection,Latitude/Longitude,PolyCal,Yes,AutoCalOnly,No,BSBUseWPX,No
Point01,xy, 147, 180,in, deg, 16, 0.0000,N, 14, 0.0000,W, grid, , , ,
Point02,xy, 1723, 168,in, deg, 16, 0.0000,N, 13, 30.0000,W, grid, , , ,
Point03,xy, 3298, 153,in, deg, 16, 0.0000,N, 13, 0.0000,W, grid, , , ,
Point04,xy, 155, 1816,in, deg, 15, 30.0000,N, 14, 0.0000,W, grid, , , ,
Point05,xy, 1735, 1801,in, deg, 15, 30.0000,N, 13, 30.0000,W, grid, , , ,
Point06,xy, 3314, 1789,in, deg, 15, 30.0000,N, 13, 0.0000,W, grid, , , ,
Point07,xy, 163, 3448,in, deg, 15, 0.0000,N, 14, 0.0000,W, grid, , , ,
Point08,xy, 1745, 3434,in, deg, 15, 0.0000,N, 13, 30.0000,W, grid, , , ,
Point09,xy, 3328, 3425,in, deg, 15, 0.0000,N, 13, 0.0000,W, grid, , , ,
Point10,xy, , ,in, deg, , ,, , ,, grid, , , ,
Point11,xy, , ,in, deg, , ,, , ,, grid, , , ,
Point12,xy, , ,in, deg, , ,, , ,, grid, , , ,
Point13,xy, , ,in, deg, , ,, , ,, grid, , , ,
Point14,xy, , ,in, deg, , ,, , ,, grid, , , ,
Point15,xy, , ,in, deg, , ,, , ,, grid, , , ,
Point16,xy, , ,in, deg, , ,, , ,, grid, , , ,
Point17,xy, , ,in, deg, , ,, , ,, grid, , , ,
Point18,xy, , ,in, deg, , ,, , ,, grid, , , ,
Point19,xy, , ,in, deg, , ,, , ,, grid, , , ,
Point20,xy, , ,in, deg, , ,, , ,, grid, , , ,
Point21,xy, , ,in, deg, , ,, , ,, grid, , , ,
Point22,xy, , ,in, deg, , ,, , ,, grid, , , ,
Point23,xy, , ,in, deg, , ,, , ,, grid, , , ,
Point24,xy, , ,in, deg, , ,, , ,, grid, , , ,
Point25,xy, , ,in, deg, , ,, , ,, grid, , , ,
Point26,xy, , ,in, deg, , ,, , ,, grid, , , ,
Point27,xy, , ,in, deg, , ,, , ,, grid, , , ,
Point28,xy, , ,in, deg, , ,, , ,, grid, , , ,
Point29,xy, , ,in, deg, , ,, , ,, grid, , , ,
Point30,xy, , ,in, deg, , ,, , ,, grid, , , ,
Projection Setup,,,,,,,,,,
Map Feature = MF ; Map Comment = MC These follow if they exist
Track File = TF These follow if they exist
Moving Map Parameters = MM? These follow if they exist
MM0,Yes
MMPNUM,4
MMPXY,1,0,2
MMPXY,2,3477,0
MMPXY,3,3511,3580
MMPXY,4,0,3606
MMPLL,1, -14.046307, 16.055227
MMPLL,2, -12.942784, 16.046450
MMPLL,3, -12.942576, 14.951946
MMPLL,4, -14.051546, 14.951949
MM1B,33.946902
MOP,Map Open Position,0,0
IWH,Map Image Width/Height,2500,1395
