OziExplorer Map Data File Version 2.2
LOUGA
LOUGA.png
1 ,Map Code,
Australian Geodetic 1984,, 0.0000, 0.0000,WGS 84
Reserved 1
Reserved 2
Magnetic Variation,,,E
Map Projection,Latitude/Longitude,PolyCal,Yes,AutoCalOnly,No,BSBUseWPX,No
Point01,xy, 106, 138,in, deg, 16, 0.0000,N, 17, 0.0000,W, grid, , , ,
Point02,xy, 1684, 122,in, deg, 16, 0.0000,N, 16, 30.0000,W, grid, , , ,
Point03,xy, 3260, 103,in, deg, 16, 0.0000,N, 16, 0.0000,W, grid, , , ,
Point04,xy, 118, 1775,in, deg, 15, 30.0000,N, 17, 0.0000,W, grid, , , ,
Point05,xy, 1699, 1758,in, deg, 15, 30.0000,N, 16, 30.0000,W, grid, , , ,
Point06,xy, 3282, 1739,in, deg, 15, 30.0000,N, 16, 0.0000,W, grid, , , ,
Point07,xy, 131, 3410,in, deg, 15, 0.0000,N, 17, 0.0000,W, grid, , , ,
Point08,xy, 1716, 3393,in, deg, 15, 0.0000,N, 16, 30.0000,W, grid, , , ,
Point09,xy, 3300, 3375,in, deg, 15, 0.0000,N, 16, 0.0000,W, grid, , , ,
Point10,xy, , ,in, deg, , ,, , ,, grid, , , ,
Point11,xy, , ,in, deg, , ,, , ,, grid, , , ,
Point12,xy, , ,in, deg, , ,, , ,, grid, , , ,
Point13,xy, , ,in, deg, , ,, , ,, grid, , , ,
Point14,xy, , ,in, deg, , ,, , ,, grid, , , ,
Point15,xy, , ,in, deg, , ,, , ,, grid, , , ,
Point16,xy, , ,in, deg, , ,, , ,, grid, , , ,
Point17,xy, , ,in, deg, , ,, , ,, grid, , , ,
Point18,xy, , ,in, deg, , ,, , ,, grid, , , ,
Point19,xy, , ,in, deg, , ,, , ,, grid, , , ,
Point20,xy, , ,in, deg, , ,, , ,, grid, , , ,
Point21,xy, , ,in, deg, , ,, , ,, grid, , , ,
Point22,xy, , ,in, deg, , ,, , ,, grid, , , ,
Point23,xy, , ,in, deg, , ,, , ,, grid, , , ,
Point24,xy, , ,in, deg, , ,, , ,, grid, , , ,
Point25,xy, , ,in, deg, , ,, , ,, grid, , , ,
Point26,xy, , ,in, deg, , ,, , ,, grid, , , ,
Point27,xy, , ,in, deg, , ,, , ,, grid, , , ,
Point28,xy, , ,in, deg, , ,, , ,, grid, , , ,
Point29,xy, , ,in, deg, , ,, , ,, grid, , , ,
Point30,xy, , ,in, deg, , ,, , ,, grid, , , ,
Projection Setup,,,,,,,,,,
Map Feature = MF ; Map Comment = MC These follow if they exist
Track File = TF These follow if they exist
Moving Map Parameters = MM? These follow if they exist
MM0,Yes
MMPNUM,4
MMPXY,1,0,1
MMPXY,2,3400,0
MMPXY,3,3443,3487
MMPXY,4,0,3525
MMPLL,1, -17.033213, 16.042266
MMPLL,2, -15.955430, 16.030925
MMPLL,3, -15.955482, 14.965105
MMPLL,4, -17.041480, 14.965223
MM1B,33.917940
MOP,Map Open Position,0,0
IWH,Map Image Width/Height,2500,1395
