OziExplorer Map Data File Version 2.2
LINGUERE
LINGUERE.png
1 ,Map Code,
Australian Geodetic 1984,, 0.0000, 0.0000,WGS 84
Reserved 1
Reserved 2
Magnetic Variation,,,E
Map Projection,Latitude/Longitude,PolyCal,Yes,AutoCalOnly,No,BSBUseWPX,No
Point01,xy, 151, 175,in, deg, 16, 0.0000,N, 16, 0.0000,W, grid, , , ,
Point02,xy, 1728, 166,in, deg, 16, 0.0000,N, 15, 30.0000,W, grid, , , ,
Point03,xy, 3302, 153,in, deg, 16, 0.0000,N, 15, 0.0000,W, grid, , , ,
Point04,xy, 160, 1806,in, deg, 15, 30.0000,N, 16, 0.0000,W, grid, , , ,
Point05,xy, 1739, 1795,in, deg, 15, 30.0000,N, 15, 30.0000,W, grid, , , ,
Point06,xy, 3319, 1787,in, deg, 15, 30.0000,N, 15, 0.0000,W, grid, , , ,
Point07,xy, 168, 3439,in, deg, 15, 0.0000,N, 16, 0.0000,W, grid, , , ,
Point08,xy, 1752, 3430,in, deg, 15, 0.0000,N, 15, 30.0000,W, grid, , , ,
Point09,xy, 3335, 3419,in, deg, 15, 0.0000,N, 15, 0.0000,W, grid, , , ,
Point10,xy, , ,in, deg, , ,, , ,, grid, , , ,
Point11,xy, , ,in, deg, , ,, , ,, grid, , , ,
Point12,xy, , ,in, deg, , ,, , ,, grid, , , ,
Point13,xy, , ,in, deg, , ,, , ,, grid, , , ,
Point14,xy, , ,in, deg, , ,, , ,, grid, , , ,
Point15,xy, , ,in, deg, , ,, , ,, grid, , , ,
Point16,xy, , ,in, deg, , ,, , ,, grid, , , ,
Point17,xy, , ,in, deg, , ,, , ,, grid, , , ,
Point18,xy, , ,in, deg, , ,, , ,, grid, , , ,
Point19,xy, , ,in, deg, , ,, , ,, grid, , , ,
Point20,xy, , ,in, deg, , ,, , ,, grid, , , ,
Point21,xy, , ,in, deg, , ,, , ,, grid, , , ,
Point22,xy, , ,in, deg, , ,, , ,, grid, , , ,
Point23,xy, , ,in, deg, , ,, , ,, grid, , , ,
Point24,xy, , ,in, deg, , ,, , ,, grid, , , ,
Point25,xy, , ,in, deg, , ,, , ,, grid, , , ,
Point26,xy, , ,in, deg, , ,, , ,, grid, , , ,
Point27,xy, , ,in, deg, , ,, , ,, grid, , , ,
Point28,xy, , ,in, deg, , ,, , ,, grid, , , ,
Point29,xy, , ,in, deg, , ,, , ,, grid, , , ,
Point30,xy, , ,in, deg, , ,, , ,, grid, , , ,
Projection Setup,,,,,,,,,,
Map Feature = MF ; Map Comment = MC These follow if they exist
Track File = TF These follow if they exist
Moving Map Parameters = MM? These follow if they exist
MM0,Yes
MMPNUM,4
MMPXY,1,0,1
MMPXY,2,3477,0
MMPXY,3,3514,3574
MMPXY,4,0,3595
MMPLL,1, -16.047724, 16.053718
MMPLL,2, -14.944032, 16.046763
MMPLL,3, -14.943947, 14.952384
MMPLL,4, -16.053249, 14.952490
MM1B,33.935342
MOP,Map Open Position,0,0
IWH,Map Image Width/Height,2500,1395
