OziExplorer Map Data File Version 2.2
KAFFRINE
KAFFRINE.png
1 ,Map Code,
Australian Geodetic 1984,, 0.0000, 0.0000,WGS 84
Reserved 1
Reserved 2
Magnetic Variation,,,E
Map Projection,Latitude/Longitude,PolyCal,Yes,AutoCalOnly,No,BSBUseWPX,No
Point01,xy, 160, 180,in, deg, 15, 0.0000,N, 16, 0.0000,W, grid, , , ,
Point02,xy, 1744, 170,in, deg, 15, 0.0000,N, 15, 30.0000,W, grid, , , ,
Point03,xy, 3326, 157,in, deg, 15, 0.0000,N, 15, 0.0000,W, grid, , , ,
Point04,xy, 164, 1813,in, deg, 14, 30.0000,N, 16, 0.0000,W, grid, , , ,
Point05,xy, 1752, 1804,in, deg, 14, 30.0000,N, 15, 30.0000,W, grid, , , ,
Point06,xy, 3339, 1797,in, deg, 14, 30.0000,N, 15, 0.0000,W, grid, , , ,
Point07,xy, 170, 3445,in, deg, 14, 0.0000,N, 16, 0.0000,W, grid, , , ,
Point08,xy, 1760, 3438,in, deg, 14, 0.0000,N, 15, 30.0000,W, grid, , , ,
Point09,xy, 3350, 3430,in, deg, 14, 0.0000,N, 15, 0.0000,W, grid, , , ,
Point10,xy, , ,in, deg, , ,, , ,, grid, , , ,
Point11,xy, , ,in, deg, , ,, , ,, grid, , , ,
Point12,xy, , ,in, deg, , ,, , ,, grid, , , ,
Point13,xy, , ,in, deg, , ,, , ,, grid, , , ,
Point14,xy, , ,in, deg, , ,, , ,, grid, , , ,
Point15,xy, , ,in, deg, , ,, , ,, grid, , , ,
Point16,xy, , ,in, deg, , ,, , ,, grid, , , ,
Point17,xy, , ,in, deg, , ,, , ,, grid, , , ,
Point18,xy, , ,in, deg, , ,, , ,, grid, , , ,
Point19,xy, , ,in, deg, , ,, , ,, grid, , , ,
Point20,xy, , ,in, deg, , ,, , ,, grid, , , ,
Point21,xy, , ,in, deg, , ,, , ,, grid, , , ,
Point22,xy, , ,in, deg, , ,, , ,, grid, , , ,
Point23,xy, , ,in, deg, , ,, , ,, grid, , , ,
Point24,xy, , ,in, deg, , ,, , ,, grid, , , ,
Point25,xy, , ,in, deg, , ,, , ,, grid, , , ,
Point26,xy, , ,in, deg, , ,, , ,, grid, , , ,
Point27,xy, , ,in, deg, , ,, , ,, grid, , , ,
Point28,xy, , ,in, deg, , ,, , ,, grid, , , ,
Point29,xy, , ,in, deg, , ,, , ,, grid, , , ,
Point30,xy, , ,in, deg, , ,, , ,, grid, , , ,
Projection Setup,,,,,,,,,,
Map Feature = MF ; Map Comment = MC These follow if they exist
Track File = TF These follow if they exist
Moving Map Parameters = MM? These follow if they exist
MM0,Yes
MMPNUM,4
MMPXY,1,0,0
MMPXY,2,3496,0
MMPXY,3,3523,3583
MMPXY,4,0,3598
MMPLL,1, -16.050284, 15.055330
MMPLL,2, -14.946069, 15.047771
MMPLL,3, -14.945986, 13.953091
MMPLL,4, -16.053387, 13.953118
MM1B,33.930160
MOP,Map Open Position,0,0
IWH,Map Image Width/Height,2500,1395
