OziExplorer Map Data File Version 2.2
DALAFI
DALAFI.png
1 ,Map Code,
Australian Geodetic 1984,, 0.0000, 0.0000,WGS 84
Reserved 1
Reserved 2
Magnetic Variation,,,E
Map Projection,Latitude/Longitude,PolyCal,Yes,AutoCalOnly,No,BSBUseWPX,No
Point01,xy, 203, 331,in, deg, 14, 0.0000,N, 13, 0.0000,W, grid, , , ,
Point02,xy, 2316, 318,in, deg, 14, 0.0000,N, 12, 30.0000,W, grid, , , ,
Point03,xy, 4431, 312,in, deg, 14, 0.0000,N, 12, 0.0000,W, grid, , , ,
Point04,xy, 205, 2503,in, deg, 13, 30.0000,N, 13, 0.0000,W, grid, , , ,
Point05,xy, 2326, 2492,in, deg, 13, 30.0000,N, 12, 30.0000,W, grid, , , ,
Point06,xy, 4447, 2483,in, deg, 13, 30.0000,N, 12, 0.0000,W, grid, , , ,
Point07,xy, 208, 4679,in, deg, 13, 0.0000,N, 13, 0.0000,W, grid, , , ,
Point08,xy, 2333, 4672,in, deg, 13, 0.0000,N, 12, 30.0000,W, grid, , , ,
Point09,xy, 4460, 4663,in, deg, 13, 0.0000,N, 12, 0.0000,W, grid, , , ,
Point10,xy, , ,in, deg, , ,, , ,, grid, , , ,
Point11,xy, , ,in, deg, , ,, , ,, grid, , , ,
Point12,xy, , ,in, deg, , ,, , ,, grid, , , ,
Point13,xy, , ,in, deg, , ,, , ,, grid, , , ,
Point14,xy, , ,in, deg, , ,, , ,, grid, , , ,
Point15,xy, , ,in, deg, , ,, , ,, grid, , , ,
Point16,xy, , ,in, deg, , ,, , ,, grid, , , ,
Point17,xy, , ,in, deg, , ,, , ,, grid, , , ,
Point18,xy, , ,in, deg, , ,, , ,, grid, , , ,
Point19,xy, , ,in, deg, , ,, , ,, grid, , , ,
Point20,xy, , ,in, deg, , ,, , ,, grid, , , ,
Point21,xy, , ,in, deg, , ,, , ,, grid, , , ,
Point22,xy, , ,in, deg, , ,, , ,, grid, , , ,
Point23,xy, , ,in, deg, , ,, , ,, grid, , , ,
Point24,xy, , ,in, deg, , ,, , ,, grid, , , ,
Point25,xy, , ,in, deg, , ,, , ,, grid, , , ,
Point26,xy, , ,in, deg, , ,, , ,, grid, , , ,
Point27,xy, , ,in, deg, , ,, , ,, grid, , , ,
Point28,xy, , ,in, deg, , ,, , ,, grid, , , ,
Point29,xy, , ,in, deg, , ,, , ,, grid, , , ,
Point30,xy, , ,in, deg, , ,, , ,, grid, , , ,
Projection Setup,,,,,,,,,,
Map Feature = MF ; Map Comment = MC These follow if they exist
Track File = TF These follow if they exist
Moving Map Parameters = MM? These follow if they exist
MM0,Yes
MMPNUM,4
MMPXY,1,0,0
MMPXY,2,4655,0
MMPXY,3,4689,4868
MMPXY,4,0,4887
MMPLL,1, -13.047797, 14.076532
MMPLL,2, -11.946544, 14.071445
MMPLL,3, -11.946535, 12.952969
MMPLL,4, -13.048842, 12.952827
MM1B,25.571867
MOP,Map Open Position,0,0
IWH,Map Image Width/Height,2500,1395
