OziExplorer Map Data File Version 2.2
DAKAR
DAKAR.png
1 ,Map Code,
Australian Geodetic 1984,, 0.0000, 0.0000,WGS 84
Reserved 1
Reserved 2
Magnetic Variation,,,E
Map Projection,Latitude/Longitude,PolyCal,Yes,AutoCalOnly,No,BSBUseWPX,No
Point01,xy, 164, 238,in, deg, 15, 10.0000,N, 17, 50.0000,W, grid, , , ,
Point02,xy, 1220, 241,in, deg, 15, 10.0000,N, 17, 30.0000,W, grid, , , ,
Point03,xy, 2801, 245,in, deg, 15, 10.0000,N, 17, 0.0000,W, grid, , , ,
Point04,xy, 155, 1865,in, deg, 14, 40.0000,N, 17, 50.0000,W, grid, , , ,
Point05,xy, 1215, 1871,in, deg, 14, 40.0000,N, 17, 30.0000,W, grid, , , ,
Point06,xy, 2800, 1874,in, deg, 14, 40.0000,N, 17, 0.0000,W, grid, , , ,
Point07,xy, 149, 2950,in, deg, 14, 20.0000,N, 17, 50.0000,W, grid, , , ,
Point08,xy, 1211, 2956,in, deg, 14, 20.0000,N, 17, 30.0000,W, grid, , , ,
Point09,xy, 2797, 2960,in, deg, 14, 20.0000,N, 17, 0.0000,W, grid, , , ,
Point10,xy, , ,in, deg, , ,, , ,, grid, , , ,
Point11,xy, , ,in, deg, , ,, , ,, grid, , , ,
Point12,xy, , ,in, deg, , ,, , ,, grid, , , ,
Point13,xy, , ,in, deg, , ,, , ,, grid, , , ,
Point14,xy, , ,in, deg, , ,, , ,, grid, , , ,
Point15,xy, , ,in, deg, , ,, , ,, grid, , , ,
Point16,xy, , ,in, deg, , ,, , ,, grid, , , ,
Point17,xy, , ,in, deg, , ,, , ,, grid, , , ,
Point18,xy, , ,in, deg, , ,, , ,, grid, , , ,
Point19,xy, , ,in, deg, , ,, , ,, grid, , , ,
Point20,xy, , ,in, deg, , ,, , ,, grid, , , ,
Point21,xy, , ,in, deg, , ,, , ,, grid, , , ,
Point22,xy, , ,in, deg, , ,, , ,, grid, , , ,
Point23,xy, , ,in, deg, , ,, , ,, grid, , , ,
Point24,xy, , ,in, deg, , ,, , ,, grid, , , ,
Point25,xy, , ,in, deg, , ,, , ,, grid, , , ,
Point26,xy, , ,in, deg, , ,, , ,, grid, , , ,
Point27,xy, , ,in, deg, , ,, , ,, grid, , , ,
Point28,xy, , ,in, deg, , ,, , ,, grid, , , ,
Point29,xy, , ,in, deg, , ,, , ,, grid, , , ,
Point30,xy, , ,in, deg, , ,, , ,, grid, , , ,
Projection Setup,,,,,,,,,,
Map Feature = MF ; Map Comment = MC These follow if they exist
Track File = TF These follow if they exist
Moving Map Parameters = MM? These follow if they exist
MM0,Yes
MMPNUM,4
MMPXY,1,0,0
MMPXY,2,2959,0
MMPXY,3,2956,3126
MMPXY,4,0,3115
MMPLL,1, -17.885164, 15.239321
MMPLL,2, -16.949910, 15.241717
MMPLL,3, -16.949859, 14.282472
MMPLL,4, -17.879738, 14.282389
MM1B,33.868069
MOP,Map Open Position,0,0
IWH,Map Image Width/Height,2500,1395
