OziExplorer Map Data File Version 2.2
BARKEDJI
BARKEDJI.png
1 ,Map Code,
Australian Geodetic 1984,, 0.0000, 0.0000,WGS 84
Reserved 1
Reserved 2
Magnetic Variation,,,E
Map Projection,Latitude/Longitude,PolyCal,Yes,AutoCalOnly,No,BSBUseWPX,No
Point01,xy, 154, 166,in, deg, 16, 0.0000,N, 15, 0.0000,W, grid, , , ,
Point02,xy, 1725, 162,in, deg, 16, 0.0000,N, 14, 30.0000,W, grid, , , ,
Point03,xy, 3298, 160,in, deg, 16, 0.0000,N, 14, 0.0000,W, grid, , , ,
Point04,xy, 152, 1799,in, deg, 15, 30.0000,N, 15, 0.0000,W, grid, , , ,
Point05,xy, 1727, 1796,in, deg, 15, 30.0000,N, 14, 30.0000,W, grid, , , ,
Point06,xy, 3304, 1794,in, deg, 15, 30.0000,N, 14, 0.0000,W, grid, , , ,
Point07,xy, 150, 3430,in, deg, 15, 0.0000,N, 15, 0.0000,W, grid, , , ,
Point08,xy, 1729, 3426,in, deg, 15, 0.0000,N, 14, 30.0000,W, grid, , , ,
Point09,xy, 3310, 3424,in, deg, 15, 0.0000,N, 14, 0.0000,W, grid, , , ,
Point10,xy, , ,in, deg, , ,, , ,, grid, , , ,
Point11,xy, , ,in, deg, , ,, , ,, grid, , , ,
Point12,xy, , ,in, deg, , ,, , ,, grid, , , ,
Point13,xy, , ,in, deg, , ,, , ,, grid, , , ,
Point14,xy, , ,in, deg, , ,, , ,, grid, , , ,
Point15,xy, , ,in, deg, , ,, , ,, grid, , , ,
Point16,xy, , ,in, deg, , ,, , ,, grid, , , ,
Point17,xy, , ,in, deg, , ,, , ,, grid, , , ,
Point18,xy, , ,in, deg, , ,, , ,, grid, , , ,
Point19,xy, , ,in, deg, , ,, , ,, grid, , , ,
Point20,xy, , ,in, deg, , ,, , ,, grid, , , ,
Point21,xy, , ,in, deg, , ,, , ,, grid, , , ,
Point22,xy, , ,in, deg, , ,, , ,, grid, , , ,
Point23,xy, , ,in, deg, , ,, , ,, grid, , , ,
Point24,xy, , ,in, deg, , ,, , ,, grid, , , ,
Point25,xy, , ,in, deg, , ,, , ,, grid, , , ,
Point26,xy, , ,in, deg, , ,, , ,, grid, , , ,
Point27,xy, , ,in, deg, , ,, , ,, grid, , , ,
Point28,xy, , ,in, deg, , ,, , ,, grid, , , ,
Point29,xy, , ,in, deg, , ,, , ,, grid, , , ,
Point30,xy, , ,in, deg, , ,, , ,, grid, , , ,
Projection Setup,,,,,,,,,,
Map Feature = MF ; Map Comment = MC These follow if they exist
Track File = TF These follow if they exist
Moving Map Parameters = MM? These follow if they exist
MM0,Yes
MMPNUM,4
MMPXY,1,0,0
MMPXY,2,3465,0
MMPXY,3,3479,3570
MMPXY,4,0,3576
MMPLL,1, -15.049125, 16.050819
MMPLL,2, -13.946754, 16.048914
MMPLL,3, -13.946772, 14.955173
MMPLL,4, -15.047464, 14.955239
MM1B,34.075693
MOP,Map Open Position,0,0
IWH,Map Image Width/Height,2500,1395
