OziExplorer Map Data File Version 2.2
Libia 3.PNG
Libia 3.PNG
1 ,Map Code,
WGS 84,WGS 84, 0.0000, 0.0000,WGS 84
Reserved 1
Reserved 2
Magnetic Variation,,,E
Map Projection,Lambert Conformal Conic,PolyCal,No,AutoCalOnly,No,BSBUseWPX,No
Point01,xy, 455, 398,in, deg, , ,N, , ,E, grid, 33, 700000, 3500000,N
Point02,xy, 7177, 375,in, deg, , ,N, , ,W, grid, 35, 700000, 3500000,N
Point03,xy, 7339, 4508,in, deg, , ,N, , ,W, grid, 35, 700000, 2800000,N
Point04,xy, 1383, 4770,in, deg, , ,N, , ,W, grid, 34, 300000, 2800000,N
Point05,xy, 406, 143,in, deg, 32, 0.0000,N, 17, 0.0000,E, grid, 34, , ,N
Point06,xy, 7100, 128,in, deg, 32, 0.0000,N, 29, 0.0000,E, grid, 34, , ,N
Point07,xy, 7356, 4703,in, deg, 25, 0.0000,N, 29, 0.0000,E, grid, 34, , ,N
Point08,xy, 171, 4720,in, deg, 25, 0.0000,N, 17, 0.0000,E, grid, 34, , ,N
Point09,xy, , ,in, deg, , ,N, , ,W, grid, 34, , ,N
Point10,xy, , ,in, deg, , ,N, , ,W, grid, , , ,N
Point11,xy, , ,in, deg, , ,N, , ,W, grid, , , ,N
Point12,xy, , ,in, deg, , ,N, , ,W, grid, , , ,N
Point13,xy, , ,in, deg, , ,N, , ,W, grid, , , ,N
Point14,xy, , ,in, deg, , ,N, , ,W, grid, , , ,N
Point15,xy, , ,in, deg, , ,N, , ,W, grid, , , ,N
Point16,xy, , ,in, deg, , ,N, , ,W, grid, , , ,N
Point17,xy, , ,in, deg, , ,N, , ,W, grid, , , ,N
Point18,xy, , ,in, deg, , ,N, , ,W, grid, , , ,N
Point19,xy, , ,in, deg, , ,N, , ,W, grid, , , ,N
Point20,xy, , ,in, deg, , ,N, , ,W, grid, , , ,N
Point21,xy, , ,in, deg, , ,N, , ,W, grid, , , ,N
Point22,xy, , ,in, deg, , ,N, , ,W, grid, , , ,N
Point23,xy, , ,in, deg, , ,N, , ,W, grid, , , ,N
Point24,xy, , ,in, deg, , ,N, , ,W, grid, , , ,N
Point25,xy, , ,in, deg, , ,N, , ,W, grid, , , ,N
Point26,xy, , ,in, deg, , ,N, , ,W, grid, , , ,N
Point27,xy, , ,in, deg, , ,N, , ,W, grid, , , ,N
Point28,xy, , ,in, deg, , ,N, , ,W, grid, , , ,N
Point29,xy, , ,in, deg, , ,N, , ,W, grid, , , ,N
Point30,xy, , ,in, deg, , ,N, , ,W, grid, , , ,N
Projection Setup, 24.000000000, 23.000000000, 0.999600000, 0.00, 0.00, 32.000000000, 24.000000000,,,
Map Feature = MF ; Map Comment = MC These follow if they exist
Track File = TF These follow if they exist
Moving Map Parameters = MM? These follow if they exist
MM0,Yes
MMPNUM,4
MMPXY,1,0,0
MMPXY,2,7633,0
MMPXY,3,7633,5332
MMPXY,4,0,5332
MMPLL,1, 16.276570, 32.219294
MMPLL,2, 29.942389, 32.113228
MMPLL,3, 29.422753, 24.074210
MMPLL,4, 16.738749, 24.177670
MM1B,168.624727
LL Grid Setup
LLGRID,No,No Cuad,Yes,255,16711680,0,Ninguna,0,16777215,7,1,Yes,x
Other Grid Setup
GRGRID,No,No Cuad,Yes,255,16711680,Ninguna,0,16777215,8,1,Yes,No,No,x
MOP,Map Open Position,0,0
IWH,Map Image Width/Height,7633,5332
