OziExplorer Map Data File Version 2.2
Libia 2.PNG
Libia 2.PNG
1 ,Map Code,
WGS 84,WGS 84, 0.0000, 0.0000,WGS 84
Reserved 1
Reserved 2
Magnetic Variation,,,E
Map Projection,Lambert Conformal Conic,PolyCal,No,AutoCalOnly,No,BSBUseWPX,No
Point01,xy, 4788, 481,in, deg, , ,N, , ,W, grid, 33, 300000, 3500000,N
Point02,xy, 7154, 413,in, deg, , ,N, , ,W, grid, 33, 700000, 3500000,N
Point03,xy, 7290, 5136,in, deg, , ,N, , ,W, grid, 33, 700000, 2700000,N
Point04,xy, 3691, 5207,in, deg, , ,N, , ,W, grid, 32, 700000, 2700000,N
Point05,xy, 736, 5143,in, deg, , ,N, , ,W, grid, 32, 200000, 2700000,N
Point06,xy, , ,in, deg, , ,N, , ,W, grid, , , ,N
Point07,xy, , ,in, deg, , ,N, , ,W, grid, , , ,N
Point08,xy, , ,in, deg, , ,N, , ,W, grid, , , ,N
Point09,xy, , ,in, deg, , ,N, , ,W, grid, , , ,N
Point10,xy, , ,in, deg, , ,, , ,, grid, , , ,
Point11,xy, , ,in, deg, , ,, , ,, grid, , , ,
Point12,xy, , ,in, deg, , ,, , ,, grid, , , ,
Point13,xy, , ,in, deg, , ,, , ,, grid, , , ,
Point14,xy, , ,in, deg, , ,, , ,, grid, , , ,
Point15,xy, , ,in, deg, , ,, , ,, grid, , , ,
Point16,xy, , ,in, deg, , ,, , ,, grid, , , ,
Point17,xy, , ,in, deg, , ,, , ,, grid, , , ,
Point18,xy, , ,in, deg, , ,, , ,, grid, , , ,
Point19,xy, , ,in, deg, , ,, , ,, grid, , , ,
Point20,xy, , ,in, deg, , ,, , ,, grid, , , ,
Point21,xy, , ,in, deg, , ,, , ,, grid, , , ,
Point22,xy, , ,in, deg, , ,, , ,, grid, , , ,
Point23,xy, , ,in, deg, , ,, , ,, grid, , , ,
Point24,xy, , ,in, deg, , ,, , ,, grid, , , ,
Point25,xy, , ,in, deg, , ,, , ,, grid, , , ,
Point26,xy, , ,in, deg, , ,, , ,, grid, , , ,
Point27,xy, , ,in, deg, , ,, , ,, grid, , , ,
Point28,xy, , ,in, deg, , ,, , ,, grid, , , ,
Point29,xy, , ,in, deg, , ,, , ,, grid, , , ,
Point30,xy, , ,in, deg, , ,, , ,, grid, , , ,
Projection Setup, 24.000000000, -11.000000000, 0.999600000, 0.00, 0.00, 32.000000000, 25.000000000,,,
Map Feature = MF ; Map Comment = MC These follow if they exist
Track File = TF These follow if they exist
Moving Map Parameters = MM? These follow if they exist
MM0,Yes
MMPNUM,4
MMPXY,1,0,0
MMPXY,2,7554,0
MMPXY,3,7554,5376
MMPXY,4,0,5376
MMPLL,1, 4.304119, 32.170303
MMPLL,2, 17.862739, 32.217089
MMPLL,3, 17.391916, 24.015448
MMPLL,4, 4.841078, 23.971844
MM1B,169.186734
LL Grid Setup
LLGRID,No,No Cuad,Yes,255,16711680,0,Ninguna,0,16777215,7,1,Yes,x
Other Grid Setup
GRGRID,No,No Cuad,Yes,255,16711680,Ninguna,0,16777215,8,1,Yes,No,No,x
MOP,Map Open Position,0,0
IWH,Map Image Width/Height,7554,5376
