OziExplorer Map Data File Version 2.2
Libia 1.PNG
Libia 1.PNG
1 ,Map Code,
WGS 84,WGS 84, 0.0000, 0.0000,WGS 84
Reserved 1
Reserved 2
Magnetic Variation,,,E
Map Projection,Lambert Conformal Conic,PolyCal,Yes,AutoCalOnly,No,BSBUseWPX,No
Point01,xy, 90, 66,in, deg, 36, 0,N, 08, 0,E, grid, , , ,N
Point02,xy, 3768, 24,in, deg, 36, 0,N, 26, 0,E, grid, , , ,N
Point03,xy, 3923, 2024,in, deg, 28, 0,N, 26, 0,E, grid, , , ,N
Point04,xy, 3637, 4557,in, deg, 18, 0,N, 24, 0,E, grid, , , ,N
Point05,xy, 2211, 4613,in, deg, 18, 0,N, 18, 0,E, grid, , , ,N
Point06,xy, 325, 4088,in, deg, 20, 0,N, 10, 0,E, grid, , , ,N
Point07,xy, 2135, 101,in, deg, 36, 0,N, 18, 0,E, grid, , , ,N
Point08,xy, , ,in, deg, , ,N, , ,W, grid, , , ,N
Point09,xy, , ,in, deg, , ,N, , ,W, grid, , , ,N
Point10,xy, , ,in, deg, , ,N, , ,W, grid, , , ,N
Point11,xy, , ,in, deg, , ,N, , ,W, grid, , , ,N
Point12,xy, , ,in, deg, , ,N, , ,W, grid, , , ,N
Point13,xy, , ,in, deg, , ,N, , ,W, grid, , , ,N
Point14,xy, , ,in, deg, , ,N, , ,W, grid, , , ,N
Point15,xy, , ,in, deg, , ,N, , ,W, grid, , , ,N
Point16,xy, , ,in, deg, , ,N, , ,W, grid, , , ,N
Point17,xy, , ,in, deg, , ,N, , ,W, grid, , , ,N
Point18,xy, , ,in, deg, , ,N, , ,W, grid, , , ,N
Point19,xy, , ,in, deg, , ,N, , ,W, grid, , , ,N
Point20,xy, , ,in, deg, , ,N, , ,W, grid, , , ,N
Point21,xy, , ,in, deg, , ,N, , ,W, grid, , , ,N
Point22,xy, , ,in, deg, , ,N, , ,W, grid, , , ,N
Point23,xy, , ,in, deg, , ,N, , ,W, grid, , , ,N
Point24,xy, , ,in, deg, , ,N, , ,W, grid, , , ,N
Point25,xy, , ,in, deg, , ,N, , ,W, grid, , , ,N
Point26,xy, , ,in, deg, , ,N, , ,W, grid, , , ,N
Point27,xy, , ,in, deg, , ,N, , ,W, grid, , , ,N
Point28,xy, , ,in, deg, , ,N, , ,W, grid, , , ,N
Point29,xy, , ,in, deg, , ,N, , ,W, grid, , , ,N
Point30,xy, , ,in, deg, , ,N, , ,W, grid, , , ,N
Projection Setup, 24.000000000, 17.000000000, 0.999600000, 0.00, 0.00, 36.000000000, 18.000000000,,,
Map Feature = MF ; Map Comment = MC These follow if they exist
Track File = TF These follow if they exist
Moving Map Parameters = MM? These follow if they exist
MM0,Yes
MMPNUM,4
MMPXY,1,0,0
MMPXY,2,4011,0
MMPXY,3,4011,5009
MMPXY,4,0,5009
MMPLL,1, 7.542968, 36.241307
MMPLL,2, 27.197241, 36.017316
MMPLL,3, 25.433271, 16.127393
MMPLL,4, 8.823145, 16.307143
MM1B,439.496446
LL Grid Setup
LLGRID,No,No Cuad,Yes,255,16711680,0,Ninguna,0,16777215,7,1,Yes,x
Other Grid Setup
GRGRID,No,No Cuad,Yes,255,16711680,Ninguna,0,16777215,8,1,Yes,No,No,x
MOP,Map Open Position,0,0
IWH,Map Image Width/Height,4011,5009
