OziExplorer Map Data File Version 2.2
Argelia.PNG
Argelia.PNG
1 ,Map Code,
WGS 84,, 0.0000, 0.0000,WGS 84
Reserved 1
Reserved 2
Magnetic Variation,,,E
Map Projection,Latitude/Longitude,PolyCal,Yes,AutoCalOnly,No,BSBUseWPX,No
Point01,xy, 120, 173,in, deg, 36, 0.0000,N, 8, 0.0000,W, grid, , , ,
Point02,xy, 415, 195,in, deg, 36, 0.0000,N, 0, 0.0000,E, grid, , , ,
Point03,xy, 714, 192,in, deg, 36, 0.0000,N, 8, 0.0000,E, grid, , , ,
Point04,xy, 72, 543,in, deg, 28, 0.0000,N, 8, 0.0000,W, grid, , , ,
Point05,xy, 404, 571,in, deg, 28, 0.0000,N, 0, 0.0000,E, grid, , , ,
Point06,xy, 738, 566,in, deg, 28, 0.0000,N, 8, 0.0000,E, grid, , , ,
Point07,xy, 22, 926,in, deg, 20, 0.0000,N, 8, 0.0000,W, grid, , , ,
Point08,xy, 391, 955,in, deg, 20, 0.0000,N, 0, 0.0000,E, grid, , , ,
Point09,xy, 763, 950,in, deg, 20, 0.0000,N, 8, 0.0000,E, grid, , , ,
Point10,xy, , ,in, deg, , ,, , ,, grid, , , ,
Point11,xy, , ,in, deg, , ,, , ,, grid, , , ,
Point12,xy, , ,in, deg, , ,, , ,, grid, , , ,
Point13,xy, , ,in, deg, , ,, , ,, grid, , , ,
Point14,xy, , ,in, deg, , ,, , ,, grid, , , ,
Point15,xy, , ,in, deg, , ,, , ,, grid, , , ,
Point16,xy, , ,in, deg, , ,, , ,, grid, , , ,
Point17,xy, , ,in, deg, , ,, , ,, grid, , , ,
Point18,xy, , ,in, deg, , ,, , ,, grid, , , ,
Point19,xy, , ,in, deg, , ,, , ,, grid, , , ,
Point20,xy, , ,in, deg, , ,, , ,, grid, , , ,
Point21,xy, , ,in, deg, , ,, , ,, grid, , , ,
Point22,xy, , ,in, deg, , ,, , ,, grid, , , ,
Point23,xy, , ,in, deg, , ,, , ,, grid, , , ,
Point24,xy, , ,in, deg, , ,, , ,, grid, , , ,
Point25,xy, , ,in, deg, , ,, , ,, grid, , , ,
Point26,xy, , ,in, deg, , ,, , ,, grid, , , ,
Point27,xy, , ,in, deg, , ,, , ,, grid, , , ,
Point28,xy, , ,in, deg, , ,, , ,, grid, , , ,
Point29,xy, , ,in, deg, , ,, , ,, grid, , , ,
Point30,xy, , ,in, deg, , ,, , ,, grid, , , ,
Projection Setup,,,,,,,,,,
Map Feature = MF ; Map Comment = MC These follow if they exist
Track File = TF These follow if they exist
Moving Map Parameters = MM? These follow if they exist
MM0,Yes
MMPNUM,4
MMPXY,1,1,0
MMPXY,2,946,0
MMPXY,3,1115,1126
MMPXY,4,0,1101
MMPLL,1, -12.002119, 39.260122
MMPLL,2, 14.897083, 39.522944
MMPLL,3, 14.979915, 15.884877
MMPLL,4, -7.996199, 16.407909
MM1B,2436.032436
LL Grid Setup
LLGRID,No,No Cuad,Yes,255,16711680,0,Ninguna,0,16777215,7,1,Yes,x
Other Grid Setup
GRGRID,No,No Cuad,Yes,255,16711680,Ninguna,0,16777215,8,1,Yes,No,No,x
MOP,Map Open Position,0,0
IWH,Map Image Width/Height,100,100
