OziExplorer Map Data File Version 2.2
Argelia 500k-8.PNG
Argelia 500k-8.PNG
1 ,Map Code,
Pulkovo 1942 (1),, 0.0000, 0.0000,WGS 84
Reserved 1
Reserved 2
Magnetic Variation,,,E
Map Projection,Latitude/Longitude,PolyCal,Yes,AutoCalOnly,No,BSBUseWPX,No
Point01,xy, 87, 73,in, deg, 32, 0.0000,N, 3, 0.0000,E, grid, , , ,
Point02,xy, 1979, 84,in, deg, 32, 0.0000,N, 4, 30.0000,E, grid, , , ,
Point03,xy, 3873, 69,in, deg, 32, 0.0000,N, 6, 0.0000,E, grid, , , ,
Point04,xy, 72, 1554,in, deg, 31, 0.0000,N, 3, 0.0000,E, grid, , , ,
Point05,xy, 1984, 1566,in, deg, 31, 0.0000,N, 4, 30.0000,E, grid, , , ,
Point06,xy, 3898, 1551,in, deg, 31, 0.0000,N, 6, 0.0000,E, grid, , , ,
Point07,xy, 56, 3035,in, deg, 30, 0.0000,N, 3, 0.0000,E, grid, , , ,
Point08,xy, 1989, 3048,in, deg, 30, 0.0000,N, 4, 30.0000,E, grid, , , ,
Point09,xy, 3922, 3037,in, deg, 30, 0.0000,N, 6, 0.0000,E, grid, , , ,
Point10,xy, , ,in, deg, , ,, , ,, grid, , , ,
Point11,xy, , ,in, deg, , ,, , ,, grid, , , ,
Point12,xy, , ,in, deg, , ,, , ,, grid, , , ,
Point13,xy, , ,in, deg, , ,, , ,, grid, , , ,
Point14,xy, , ,in, deg, , ,, , ,, grid, , , ,
Point15,xy, , ,in, deg, , ,, , ,, grid, , , ,
Point16,xy, , ,in, deg, , ,, , ,, grid, , , ,
Point17,xy, , ,in, deg, , ,, , ,, grid, , , ,
Point18,xy, , ,in, deg, , ,, , ,, grid, , , ,
Point19,xy, , ,in, deg, , ,, , ,, grid, , , ,
Point20,xy, , ,in, deg, , ,, , ,, grid, , , ,
Point21,xy, , ,in, deg, , ,, , ,, grid, , , ,
Point22,xy, , ,in, deg, , ,, , ,, grid, , , ,
Point23,xy, , ,in, deg, , ,, , ,, grid, , , ,
Point24,xy, , ,in, deg, , ,, , ,, grid, , , ,
Point25,xy, , ,in, deg, , ,, , ,, grid, , , ,
Point26,xy, , ,in, deg, , ,, , ,, grid, , , ,
Point27,xy, , ,in, deg, , ,, , ,, grid, , , ,
Point28,xy, , ,in, deg, , ,, , ,, grid, , , ,
Point29,xy, , ,in, deg, , ,, , ,, grid, , , ,
Point30,xy, , ,in, deg, , ,, , ,, grid, , , ,
Projection Setup,,,,,,,,,,
Map Feature = MF ; Map Comment = MC These follow if they exist
Track File = TF These follow if they exist
Moving Map Parameters = MM? These follow if they exist
MM0,Yes
MMPNUM,4
MMPXY,1,0,0
MMPXY,2,4383,0
MMPXY,3,4446,3096
MMPXY,4,0,3101
MMPLL,1, 2.930497, 32.048858
MMPLL,2, 6.404874, 32.040617
MMPLL,3, 6.405099, 29.954699
MMPLL,4, 2.956921, 29.954990
MM1B,74.888374
MOP,Map Open Position,0,0
IWH,Map Image Width/Height,2500,1395
