OziExplorer Map Data File Version 2.2
Argelia 500k-6.PNG
Argelia 500k-6.PNG
1 ,Map Code,
Pulkovo 1942 (1),, 0.0000, 0.0000,WGS 84
Reserved 1
Reserved 2
Magnetic Variation,,,E
Map Projection,Latitude/Longitude,PolyCal,Yes,AutoCalOnly,No,BSBUseWPX,No
Point01,xy, 96, 64,in, deg, 30, 0.0000,N, 3, 0.0000,E, grid, , , ,
Point02,xy, 2029, 80,in, deg, 30, 0.0000,N, 4, 30.0000,E, grid, , , ,
Point03,xy, 3963, 70,in, deg, 30, 0.0000,N, 6, 0.0000,E, grid, , , ,
Point04,xy, 76, 1548,in, deg, 29, 0.0000,N, 3, 0.0000,E, grid, , , ,
Point05,xy, 2029, 1565,in, deg, 29, 0.0000,N, 4, 30.0000,E, grid, , , ,
Point06,xy, 3983, 1555,in, deg, 29, 0.0000,N, 6, 0.0000,E, grid, , , ,
Point07,xy, 57, 3032,in, deg, 28, 0.0000,N, 3, 0.0000,E, grid, , , ,
Point08,xy, 2029, 3052,in, deg, 28, 0.0000,N, 4, 30.0000,E, grid, , , ,
Point09,xy, 4001, 3041,in, deg, 28, 0.0000,N, 6, 0.0000,E, grid, , , ,
Point10,xy, , ,in, deg, , ,, , ,, grid, , , ,
Point11,xy, , ,in, deg, , ,, , ,, grid, , , ,
Point12,xy, , ,in, deg, , ,, , ,, grid, , , ,
Point13,xy, , ,in, deg, , ,, , ,, grid, , , ,
Point14,xy, , ,in, deg, , ,, , ,, grid, , , ,
Point15,xy, , ,in, deg, , ,, , ,, grid, , , ,
Point16,xy, , ,in, deg, , ,, , ,, grid, , , ,
Point17,xy, , ,in, deg, , ,, , ,, grid, , , ,
Point18,xy, , ,in, deg, , ,, , ,, grid, , , ,
Point19,xy, , ,in, deg, , ,, , ,, grid, , , ,
Point20,xy, , ,in, deg, , ,, , ,, grid, , , ,
Point21,xy, , ,in, deg, , ,, , ,, grid, , , ,
Point22,xy, , ,in, deg, , ,, , ,, grid, , , ,
Point23,xy, , ,in, deg, , ,, , ,, grid, , , ,
Point24,xy, , ,in, deg, , ,, , ,, grid, , , ,
Point25,xy, , ,in, deg, , ,, , ,, grid, , , ,
Point26,xy, , ,in, deg, , ,, , ,, grid, , , ,
Point27,xy, , ,in, deg, , ,, , ,, grid, , , ,
Point28,xy, , ,in, deg, , ,, , ,, grid, , , ,
Point29,xy, , ,in, deg, , ,, , ,, grid, , , ,
Point30,xy, , ,in, deg, , ,, , ,, grid, , , ,
Projection Setup,,,,,,,,,,
Map Feature = MF ; Map Comment = MC These follow if they exist
Track File = TF These follow if they exist
Moving Map Parameters = MM? These follow if they exist
MM0,Yes
MMPNUM,4
MMPXY,1,0,0
MMPXY,2,4450,0
MMPXY,3,4500,3111
MMPXY,4,0,3107
MMPLL,1, 2.925092, 30.041912
MMPLL,2, 6.378257, 30.041996
MMPLL,3, 6.378175, 27.948613
MMPLL,4, 2.957523, 27.949276
MM1B,74.825076
MOP,Map Open Position,0,0
IWH,Map Image Width/Height,2500,1395
