OziExplorer Map Data File Version 2.2
Argelia 500k-5.PNG
Argelia 500k-5.PNG
1 ,Map Code,
Pulkovo 1942 (1),, 0.0000, 0.0000,WGS 84
Reserved 1
Reserved 2
Magnetic Variation,,,E
Map Projection,Latitude/Longitude,PolyCal,Yes,AutoCalOnly,No,BSBUseWPX,No
Point01,xy, 94, 69,in, deg, 34, 0.0000,N, 0, 0.0000,E, grid, , , ,
Point02,xy, 1947, 81,in, deg, 34, 0.0000,N, 1, 30.0000,E, grid, , , ,
Point03,xy, 3796, 70,in, deg, 34, 0.0000,N, 3, 0.0000,E, grid, , , ,
Point04,xy, 78, 1556,in, deg, 33, 0.0000,N, 0, 0.0000,E, grid, , , ,
Point05,xy, 1950, 1567,in, deg, 33, 0.0000,N, 1, 30.0000,E, grid, , , ,
Point06,xy, 3820, 1554,in, deg, 33, 0.0000,N, 3, 0.0000,E, grid, , , ,
Point07,xy, 62, 3042,in, deg, 32, 0.0000,N, 0, 0.0000,E, grid, , , ,
Point08,xy, 1953, 3054,in, deg, 32, 0.0000,N, 1, 30.0000,E, grid, , , ,
Point09,xy, 3843, 3039,in, deg, 32, 0.0000,N, 3, 0.0000,E, grid, , , ,
Point10,xy, , ,in, deg, , ,, , ,, grid, , , ,
Point11,xy, , ,in, deg, , ,, , ,, grid, , , ,
Point12,xy, , ,in, deg, , ,, , ,, grid, , , ,
Point13,xy, , ,in, deg, , ,, , ,, grid, , , ,
Point14,xy, , ,in, deg, , ,, , ,, grid, , , ,
Point15,xy, , ,in, deg, , ,, , ,, grid, , , ,
Point16,xy, , ,in, deg, , ,, , ,, grid, , , ,
Point17,xy, , ,in, deg, , ,, , ,, grid, , , ,
Point18,xy, , ,in, deg, , ,, , ,, grid, , , ,
Point19,xy, , ,in, deg, , ,, , ,, grid, , , ,
Point20,xy, , ,in, deg, , ,, , ,, grid, , , ,
Point21,xy, , ,in, deg, , ,, , ,, grid, , , ,
Point22,xy, , ,in, deg, , ,, , ,, grid, , , ,
Point23,xy, , ,in, deg, , ,, , ,, grid, , , ,
Point24,xy, , ,in, deg, , ,, , ,, grid, , , ,
Point25,xy, , ,in, deg, , ,, , ,, grid, , , ,
Point26,xy, , ,in, deg, , ,, , ,, grid, , , ,
Point27,xy, , ,in, deg, , ,, , ,, grid, , , ,
Point28,xy, , ,in, deg, , ,, , ,, grid, , , ,
Point29,xy, , ,in, deg, , ,, , ,, grid, , , ,
Point30,xy, , ,in, deg, , ,, , ,, grid, , , ,
Projection Setup,,,,,,,,,,
Map Feature = MF ; Map Comment = MC These follow if they exist
Track File = TF These follow if they exist
Moving Map Parameters = MM? These follow if they exist
MM0,Yes
MMPNUM,4
MMPXY,1,0,0
MMPXY,2,4270,0
MMPXY,3,4329,3111
MMPXY,4,0,3120
MMPLL,1, -0.076853, 34.045458
MMPLL,2, 3.385333, 34.042103
MMPLL,3, 3.385056, 31.946563
MMPLL,4, -0.048170, 31.947421
MM1B,74.713907
MOP,Map Open Position,0,0
IWH,Map Image Width/Height,2500,1395
