OziExplorer Map Data File Version 2.2
Argelia 500k-4.PNG
Argelia 500k-4.PNG
1 ,Map Code,
Pulkovo 1942 (1),, 0.0000, 0.0000,WGS 84
Reserved 1
Reserved 2
Magnetic Variation,,,E
Map Projection,Latitude/Longitude,PolyCal,Yes,AutoCalOnly,No,BSBUseWPX,No
Point01,xy, 88, 60,in, deg, 28, 0.0000,N, 6, 0.0000,W, grid, , , ,
Point02,xy, 2064, 77,in, deg, 28, 0.0000,N, 4, 30.0000,W, grid, , , ,
Point03,xy, 4035, 69,in, deg, 28, 0.0000,N, 3, 0.0000,W, grid, , , ,
Point04,xy, 72, 1542,in, deg, 27, 0.0000,N, 6, 0.0000,W, grid, , , ,
Point05,xy, 2065, 1559,in, deg, 27, 0.0000,N, 4, 30.0000,W, grid, , , ,
Point06,xy, 4053, 1554,in, deg, 27, 0.0000,N, 3, 0.0000,W, grid, , , ,
Point07,xy, 56, 3024,in, deg, 26, 0.0000,N, 6, 0.0000,W, grid, , , ,
Point08,xy, 2065, 3039,in, deg, 26, 0.0000,N, 4, 30.0000,W, grid, , , ,
Point09,xy, 4070, 3033,in, deg, 26, 0.0000,N, 3, 0.0000,W, grid, , , ,
Point10,xy, , ,in, deg, , ,, , ,, grid, , , ,
Point11,xy, , ,in, deg, , ,, , ,, grid, , , ,
Point12,xy, , ,in, deg, , ,, , ,, grid, , , ,
Point13,xy, , ,in, deg, , ,, , ,, grid, , , ,
Point14,xy, , ,in, deg, , ,, , ,, grid, , , ,
Point15,xy, , ,in, deg, , ,, , ,, grid, , , ,
Point16,xy, , ,in, deg, , ,, , ,, grid, , , ,
Point17,xy, , ,in, deg, , ,, , ,, grid, , , ,
Point18,xy, , ,in, deg, , ,, , ,, grid, , , ,
Point19,xy, , ,in, deg, , ,, , ,, grid, , , ,
Point20,xy, , ,in, deg, , ,, , ,, grid, , , ,
Point21,xy, , ,in, deg, , ,, , ,, grid, , , ,
Point22,xy, , ,in, deg, , ,, , ,, grid, , , ,
Point23,xy, , ,in, deg, , ,, , ,, grid, , , ,
Point24,xy, , ,in, deg, , ,, , ,, grid, , , ,
Point25,xy, , ,in, deg, , ,, , ,, grid, , , ,
Point26,xy, , ,in, deg, , ,, , ,, grid, , , ,
Point27,xy, , ,in, deg, , ,, , ,, grid, , , ,
Point28,xy, , ,in, deg, , ,, , ,, grid, , , ,
Point29,xy, , ,in, deg, , ,, , ,, grid, , , ,
Point30,xy, , ,in, deg, , ,, , ,, grid, , , ,
Projection Setup,,,,,,,,,,
Map Feature = MF ; Map Comment = MC These follow if they exist
Track File = TF These follow if they exist
Moving Map Parameters = MM? These follow if they exist
MM0,Yes
MMPNUM,4
MMPXY,1,0,0
MMPXY,2,4510,2
MMPXY,3,4555,3099
MMPXY,4,0,3093
MMPLL,1, -6.067185, 28.039496
MMPLL,2, -2.637412, 28.042412
MMPLL,3, -2.637310, 25.952187
MMPLL,4, -6.040996, 25.952302
MM1B,74.631657
MOP,Map Open Position,0,0
IWH,Map Image Width/Height,2500,1395
