OziExplorer Map Data File Version 2.2
Argelia 500k-3.PNG
Argelia 500k-3.PNG
1 ,Map Code,
Pulkovo 1942 (1),, 0.0000, 0.0000,WGS 84
Reserved 1
Reserved 2
Magnetic Variation,,,E
Map Projection,Latitude/Longitude,PolyCal,Yes,AutoCalOnly,No,BSBUseWPX,No
Point01,xy, 78, 77,in, deg, 28, 0.0000,N, 3, 0.0000,W, grid, , , ,
Point02,xy, 2052, 83,in, deg, 28, 0.0000,N, 1, 30.0000,W, grid, , , ,
Point03,xy, 4024, 66,in, deg, 28, 0.0000,N, 0, 0.0000,E, grid, , , ,
Point04,xy, 66, 1557,in, deg, 27, 0.0000,N, 3, 0.0000,W, grid, , , ,
Point05,xy, 2058, 1564,in, deg, 27, 0.0000,N, 1, 30.0000,W, grid, , , ,
Point06,xy, 4048, 1551,in, deg, 27, 0.0000,N, 0, 0.0000,E, grid, , , ,
Point07,xy, 54, 3038,in, deg, 26, 0.0000,N, 3, 0.0000,W, grid, , , ,
Point08,xy, 2064, 3047,in, deg, 26, 0.0000,N, 1, 30.0000,W, grid, , , ,
Point09,xy, 4069, 3031,in, deg, 26, 0.0000,N, 0, 0.0000,E, grid, , , ,
Point10,xy, , ,in, deg, , ,, , ,, grid, , , ,
Point11,xy, , ,in, deg, , ,, , ,, grid, , , ,
Point12,xy, , ,in, deg, , ,, , ,, grid, , , ,
Point13,xy, , ,in, deg, , ,, , ,, grid, , , ,
Point14,xy, , ,in, deg, , ,, , ,, grid, , , ,
Point15,xy, , ,in, deg, , ,, , ,, grid, , , ,
Point16,xy, , ,in, deg, , ,, , ,, grid, , , ,
Point17,xy, , ,in, deg, , ,, , ,, grid, , , ,
Point18,xy, , ,in, deg, , ,, , ,, grid, , , ,
Point19,xy, , ,in, deg, , ,, , ,, grid, , , ,
Point20,xy, , ,in, deg, , ,, , ,, grid, , , ,
Point21,xy, , ,in, deg, , ,, , ,, grid, , , ,
Point22,xy, , ,in, deg, , ,, , ,, grid, , , ,
Point23,xy, , ,in, deg, , ,, , ,, grid, , , ,
Point24,xy, , ,in, deg, , ,, , ,, grid, , , ,
Point25,xy, , ,in, deg, , ,, , ,, grid, , , ,
Point26,xy, , ,in, deg, , ,, , ,, grid, , , ,
Point27,xy, , ,in, deg, , ,, , ,, grid, , , ,
Point28,xy, , ,in, deg, , ,, , ,, grid, , , ,
Point29,xy, , ,in, deg, , ,, , ,, grid, , , ,
Point30,xy, , ,in, deg, , ,, , ,, grid, , , ,
Projection Setup,,,,,,,,,,
Map Feature = MF ; Map Comment = MC These follow if they exist
Track File = TF These follow if they exist
Moving Map Parameters = MM? These follow if they exist
MM0,Yes
MMPNUM,4
MMPXY,1,0,0
MMPXY,2,4531,0
MMPXY,3,4588,3098
MMPXY,4,0,3111
MMPLL,1, -3.059328, 28.051197
MMPLL,2, 0.386854, 28.039543
MMPLL,3, 0.386995, 25.950421
MMPLL,4, -3.039854, 25.950241
MM1B,74.630610
MOP,Map Open Position,0,0
IWH,Map Image Width/Height,2500,1395
