OziExplorer Map Data File Version 2.2
Argelia 500k-26.PNG
Argelia 500k-26.PNG
1 ,Map Code,
Pulkovo 1942 (1),, 0.0000, 0.0000,WGS 84
Reserved 1
Reserved 2
Magnetic Variation,,,E
Map Projection,Latitude/Longitude,PolyCal,Yes,AutoCalOnly,No,BSBUseWPX,No
Point01,xy, 83, 82,in, deg, 20, 0.0000,N, 0, 0.0000,E, grid, , , ,
Point02,xy, 2191, 95,in, deg, 20, 0.0000,N, 1, 30.0000,E, grid, , , ,
Point03,xy, 4293, 93,in, deg, 20, 0.0000,N, 3, 0.0000,E, grid, , , ,
Point04,xy, 71, 1562,in, deg, 19, 0.0000,N, 0, 0.0000,E, grid, , , ,
Point05,xy, 2189, 1576,in, deg, 19, 0.0000,N, 1, 30.0000,E, grid, , , ,
Point06,xy, 4306, 1573,in, deg, 19, 0.0000,N, 3, 0.0000,E, grid, , , ,
Point07,xy, 59, 3046,in, deg, 18, 0.0000,N, 0, 0.0000,E, grid, , , ,
Point08,xy, 2190, 3059,in, deg, 18, 0.0000,N, 1, 30.0000,E, grid, , , ,
Point09,xy, 4317, 3053,in, deg, 18, 0.0000,N, 3, 0.0000,E, grid, , , ,
Point10,xy, , ,in, deg, , ,, , ,, grid, , , ,
Point11,xy, , ,in, deg, , ,, , ,, grid, , , ,
Point12,xy, , ,in, deg, , ,, , ,, grid, , , ,
Point13,xy, , ,in, deg, , ,, , ,, grid, , , ,
Point14,xy, , ,in, deg, , ,, , ,, grid, , , ,
Point15,xy, , ,in, deg, , ,, , ,, grid, , , ,
Point16,xy, , ,in, deg, , ,, , ,, grid, , , ,
Point17,xy, , ,in, deg, , ,, , ,, grid, , , ,
Point18,xy, , ,in, deg, , ,, , ,, grid, , , ,
Point19,xy, , ,in, deg, , ,, , ,, grid, , , ,
Point20,xy, , ,in, deg, , ,, , ,, grid, , , ,
Point21,xy, , ,in, deg, , ,, , ,, grid, , , ,
Point22,xy, , ,in, deg, , ,, , ,, grid, , , ,
Point23,xy, , ,in, deg, , ,, , ,, grid, , , ,
Point24,xy, , ,in, deg, , ,, , ,, grid, , , ,
Point25,xy, , ,in, deg, , ,, , ,, grid, , , ,
Point26,xy, , ,in, deg, , ,, , ,, grid, , , ,
Point27,xy, , ,in, deg, , ,, , ,, grid, , , ,
Point28,xy, , ,in, deg, , ,, , ,, grid, , , ,
Point29,xy, , ,in, deg, , ,, , ,, grid, , , ,
Point30,xy, , ,in, deg, , ,, , ,, grid, , , ,
Projection Setup,,,,,,,,,,
Map Feature = MF ; Map Comment = MC These follow if they exist
Track File = TF These follow if they exist
Moving Map Parameters = MM? These follow if they exist
MM0,Yes
MMPNUM,4
MMPXY,1,0,0
MMPXY,2,4822,0
MMPXY,3,4854,3135
MMPXY,4,0,3130
MMPLL,1, -0.059695, 20.054320
MMPLL,2, 3.377902, 20.060654
MMPLL,3, 3.378278, 17.942519
MMPLL,4, -0.040928, 17.943025
MM1B,74.334295
MOP,Map Open Position,0,0
IWH,Map Image Width/Height,2500,1395
