OziExplorer Map Data File Version 2.2
Argelia 500k-22.PNG
Argelia 500k-22.PNG
1 ,Map Code,
Pulkovo 1942 (1),, 0.0000, 0.0000,WGS 84
Reserved 1
Reserved 2
Magnetic Variation,,,E
Map Projection,Latitude/Longitude,PolyCal,Yes,AutoCalOnly,No,BSBUseWPX,No
Point01,xy, 85, 63,in, deg, 22, 0.0000,N, 3, 0.0000,W, grid, , , ,
Point02,xy, 2159, 69,in, deg, 22, 0.0000,N, 1, 30.0000,W, grid, , , ,
Point03,xy, 4230, 57,in, deg, 22, 0.0000,N, 0, 0.0000,E, grid, , , ,
Point04,xy, 74, 1545,in, deg, 21, 0.0000,N, 3, 0.0000,W, grid, , , ,
Point05,xy, 2161, 1551,in, deg, 21, 0.0000,N, 1, 30.0000,W, grid, , , ,
Point06,xy, 4247, 1540,in, deg, 21, 0.0000,N, 0, 0.0000,E, grid, , , ,
Point07,xy, 68, 3025,in, deg, 20, 0.0000,N, 3, 0.0000,W, grid, , , ,
Point08,xy, 2164, 3033,in, deg, 20, 0.0000,N, 1, 30.0000,W, grid, , , ,
Point09,xy, 4264, 3022,in, deg, 20, 0.0000,N, 0, 0.0000,E, grid, , , ,
Point10,xy, , ,in, deg, , ,, , ,, grid, , , ,
Point11,xy, , ,in, deg, , ,, , ,, grid, , , ,
Point12,xy, , ,in, deg, , ,, , ,, grid, , , ,
Point13,xy, , ,in, deg, , ,, , ,, grid, , , ,
Point14,xy, , ,in, deg, , ,, , ,, grid, , , ,
Point15,xy, , ,in, deg, , ,, , ,, grid, , , ,
Point16,xy, , ,in, deg, , ,, , ,, grid, , , ,
Point17,xy, , ,in, deg, , ,, , ,, grid, , , ,
Point18,xy, , ,in, deg, , ,, , ,, grid, , , ,
Point19,xy, , ,in, deg, , ,, , ,, grid, , , ,
Point20,xy, , ,in, deg, , ,, , ,, grid, , , ,
Point21,xy, , ,in, deg, , ,, , ,, grid, , , ,
Point22,xy, , ,in, deg, , ,, , ,, grid, , , ,
Point23,xy, , ,in, deg, , ,, , ,, grid, , , ,
Point24,xy, , ,in, deg, , ,, , ,, grid, , , ,
Point25,xy, , ,in, deg, , ,, , ,, grid, , , ,
Point26,xy, , ,in, deg, , ,, , ,, grid, , , ,
Point27,xy, , ,in, deg, , ,, , ,, grid, , , ,
Point28,xy, , ,in, deg, , ,, , ,, grid, , , ,
Point29,xy, , ,in, deg, , ,, , ,, grid, , , ,
Point30,xy, , ,in, deg, , ,, , ,, grid, , , ,
Projection Setup,,,,,,,,,,
Map Feature = MF ; Map Comment = MC These follow if they exist
Track File = TF These follow if they exist
Moving Map Parameters = MM? These follow if they exist
MM0,Yes
MMPNUM,4
MMPXY,1,0,0
MMPXY,2,4745,0
MMPXY,3,4786,3102
MMPXY,4,0,3110
MMPLL,1, -3.061923, 22.042138
MMPLL,2, 0.372438, 22.034457
MMPLL,3, 0.372426, 19.942410
MMPLL,4, -3.047528, 19.942380
MM1B,74.689942
MOP,Map Open Position,0,0
IWH,Map Image Width/Height,2500,1395
