OziExplorer Map Data File Version 2.2
Argelia 500k-19.PNG
Argelia 500k-19.PNG
1 ,Map Code,
Pulkovo 1942 (1),, 0.0000, 0.0000,WGS 84
Reserved 1
Reserved 2
Magnetic Variation,,,E
Map Projection,Latitude/Longitude,PolyCal,Yes,AutoCalOnly,No,BSBUseWPX,No
Point01,xy, 90, 60,in, deg, 24, 0.0000,N, 3, 0.0000,E, grid, , , ,
Point02,xy, 2131, 75,in, deg, 24, 0.0000,N, 4, 30.0000,E, grid, , , ,
Point03,xy, 4171, 70,in, deg, 24, 0.0000,N, 6, 0.0000,E, grid, , , ,
Point04,xy, 77, 1540,in, deg, 23, 0.0000,N, 3, 0.0000,E, grid, , , ,
Point05,xy, 2131, 1556,in, deg, 23, 0.0000,N, 4, 30.0000,E, grid, , , ,
Point06,xy, 4188, 1552,in, deg, 23, 0.0000,N, 6, 0.0000,E, grid, , , ,
Point07,xy, 64, 3020,in, deg, 22, 0.0000,N, 3, 0.0000,E, grid, , , ,
Point08,xy, 2131, 3035,in, deg, 22, 0.0000,N, 4, 30.0000,E, grid, , , ,
Point09,xy, 4200, 3034,in, deg, 22, 0.0000,N, 6, 0.0000,E, grid, , , ,
Point10,xy, , ,in, deg, , ,, , ,, grid, , , ,
Point11,xy, , ,in, deg, , ,, , ,, grid, , , ,
Point12,xy, , ,in, deg, , ,, , ,, grid, , , ,
Point13,xy, , ,in, deg, , ,, , ,, grid, , , ,
Point14,xy, , ,in, deg, , ,, , ,, grid, , , ,
Point15,xy, , ,in, deg, , ,, , ,, grid, , , ,
Point16,xy, , ,in, deg, , ,, , ,, grid, , , ,
Point17,xy, , ,in, deg, , ,, , ,, grid, , , ,
Point18,xy, , ,in, deg, , ,, , ,, grid, , , ,
Point19,xy, , ,in, deg, , ,, , ,, grid, , , ,
Point20,xy, , ,in, deg, , ,, , ,, grid, , , ,
Point21,xy, , ,in, deg, , ,, , ,, grid, , , ,
Point22,xy, , ,in, deg, , ,, , ,, grid, , , ,
Point23,xy, , ,in, deg, , ,, , ,, grid, , , ,
Point24,xy, , ,in, deg, , ,, , ,, grid, , , ,
Point25,xy, , ,in, deg, , ,, , ,, grid, , , ,
Point26,xy, , ,in, deg, , ,, , ,, grid, , , ,
Point27,xy, , ,in, deg, , ,, , ,, grid, , , ,
Point28,xy, , ,in, deg, , ,, , ,, grid, , , ,
Point29,xy, , ,in, deg, , ,, , ,, grid, , , ,
Point30,xy, , ,in, deg, , ,, , ,, grid, , , ,
Projection Setup,,,,,,,,,,
Map Feature = MF ; Map Comment = MC These follow if they exist
Track File = TF These follow if they exist
Moving Map Parameters = MM? These follow if they exist
MM0,Yes
MMPNUM,4
MMPXY,1,0,0
MMPXY,2,4631,0
MMPXY,3,4667,3115
MMPXY,4,0,3103
MMPLL,1, 2.933472, 24.039961
MMPLL,2, 6.337875, 24.044969
MMPLL,3, 6.337554, 21.942923
MMPLL,4, 2.954576, 21.943047
MM1B,74.795105
MOP,Map Open Position,0,0
IWH,Map Image Width/Height,2500,1395
