OziExplorer Map Data File Version 2.2
Argelia 500k-18.PNG
Argelia 500k-18.PNG
1 ,Map Code,
Pulkovo 1942 (1),, 0.0000, 0.0000,WGS 84
Reserved 1
Reserved 2
Magnetic Variation,,,E
Map Projection,Latitude/Longitude,PolyCal,Yes,AutoCalOnly,No,BSBUseWPX,No
Point01,xy, 93, 67,in, deg, 24, 0.0000,N, 3, 0.0000,W, grid, , , ,
Point02,xy, 2136, 73,in, deg, 24, 0.0000,N, 1, 30.0000,W, grid, , , ,
Point03,xy, 4175, 63,in, deg, 24, 0.0000,N, 0, 0.0000,E, grid, , , ,
Point04,xy, 83, 1546,in, deg, 23, 0.0000,N, 3, 0.0000,W, grid, , , ,
Point05,xy, 2140, 1555,in, deg, 23, 0.0000,N, 1, 30.0000,W, grid, , , ,
Point06,xy, 4195, 1545,in, deg, 23, 0.0000,N, 0, 0.0000,E, grid, , , ,
Point07,xy, 73, 3028,in, deg, 22, 0.0000,N, 3, 0.0000,W, grid, , , ,
Point08,xy, 2142, 3039,in, deg, 22, 0.0000,N, 1, 30.0000,W, grid, , , ,
Point09,xy, 4212, 3029,in, deg, 22, 0.0000,N, 0, 0.0000,E, grid, , , ,
Point10,xy, , ,in, deg, , ,, , ,, grid, , , ,
Point11,xy, , ,in, deg, , ,, , ,, grid, , , ,
Point12,xy, , ,in, deg, , ,, , ,, grid, , , ,
Point13,xy, , ,in, deg, , ,, , ,, grid, , , ,
Point14,xy, , ,in, deg, , ,, , ,, grid, , , ,
Point15,xy, , ,in, deg, , ,, , ,, grid, , , ,
Point16,xy, , ,in, deg, , ,, , ,, grid, , , ,
Point17,xy, , ,in, deg, , ,, , ,, grid, , , ,
Point18,xy, , ,in, deg, , ,, , ,, grid, , , ,
Point19,xy, , ,in, deg, , ,, , ,, grid, , , ,
Point20,xy, , ,in, deg, , ,, , ,, grid, , , ,
Point21,xy, , ,in, deg, , ,, , ,, grid, , , ,
Point22,xy, , ,in, deg, , ,, , ,, grid, , , ,
Point23,xy, , ,in, deg, , ,, , ,, grid, , , ,
Point24,xy, , ,in, deg, , ,, , ,, grid, , , ,
Point25,xy, , ,in, deg, , ,, , ,, grid, , , ,
Point26,xy, , ,in, deg, , ,, , ,, grid, , , ,
Point27,xy, , ,in, deg, , ,, , ,, grid, , , ,
Point28,xy, , ,in, deg, , ,, , ,, grid, , , ,
Point29,xy, , ,in, deg, , ,, , ,, grid, , , ,
Point30,xy, , ,in, deg, , ,, , ,, grid, , , ,
Projection Setup,,,,,,,,,,
Map Feature = MF ; Map Comment = MC These follow if they exist
Track File = TF These follow if they exist
Moving Map Parameters = MM? These follow if they exist
MM0,Yes
MMPNUM,4
MMPXY,1,0,0
MMPXY,2,4674,0
MMPXY,3,4719,3111
MMPXY,4,0,3114
MMPLL,1, -3.068691, 24.044428
MMPLL,2, 0.367213, 24.038506
MMPLL,3, 0.367071, 21.941787
MMPLL,4, -3.051826, 21.941770
MM1B,74.619937
MOP,Map Open Position,0,0
IWH,Map Image Width/Height,2500,1395
