OziExplorer Map Data File Version 2.2
Argelia 500k-17.PNG
Argelia 500k-17.PNG
1 ,Map Code,
Pulkovo 1942 (1),, 0.0000, 0.0000,WGS 84
Reserved 1
Reserved 2
Magnetic Variation,,,E
Map Projection,Latitude/Longitude,PolyCal,Yes,AutoCalOnly,No,BSBUseWPX,No
Point01,xy, 77, 66,in, deg, 24, 0.0000,N, 6, 0.0000,W, grid, , , ,
Point02,xy, 2125, 73,in, deg, 24, 0.0000,N, 4, 30.0000,W, grid, , , ,
Point03,xy, 4171, 60,in, deg, 24, 0.0000,N, 3, 0.0000,W, grid, , , ,
Point04,xy, 70, 1544,in, deg, 23, 0.0000,N, 6, 0.0000,W, grid, , , ,
Point05,xy, 2130, 1555,in, deg, 23, 0.0000,N, 4, 30.0000,W, grid, , , ,
Point06,xy, 4191, 1544,in, deg, 23, 0.0000,N, 3, 0.0000,W, grid, , , ,
Point07,xy, 62, 3030,in, deg, 22, 0.0000,N, 6, 0.0000,W, grid, , , ,
Point08,xy, 2135, 3038,in, deg, 22, 0.0000,N, 4, 30.0000,W, grid, , , ,
Point09,xy, 4212, 3026,in, deg, 22, 0.0000,N, 3, 0.0000,W, grid, , , ,
Point10,xy, , ,in, deg, , ,, , ,, grid, , , ,
Point11,xy, , ,in, deg, , ,, , ,, grid, , , ,
Point12,xy, , ,in, deg, , ,, , ,, grid, , , ,
Point13,xy, , ,in, deg, , ,, , ,, grid, , , ,
Point14,xy, , ,in, deg, , ,, , ,, grid, , , ,
Point15,xy, , ,in, deg, , ,, , ,, grid, , , ,
Point16,xy, , ,in, deg, , ,, , ,, grid, , , ,
Point17,xy, , ,in, deg, , ,, , ,, grid, , , ,
Point18,xy, , ,in, deg, , ,, , ,, grid, , , ,
Point19,xy, , ,in, deg, , ,, , ,, grid, , , ,
Point20,xy, , ,in, deg, , ,, , ,, grid, , , ,
Point21,xy, , ,in, deg, , ,, , ,, grid, , , ,
Point22,xy, , ,in, deg, , ,, , ,, grid, , , ,
Point23,xy, , ,in, deg, , ,, , ,, grid, , , ,
Point24,xy, , ,in, deg, , ,, , ,, grid, , , ,
Point25,xy, , ,in, deg, , ,, , ,, grid, , , ,
Point26,xy, , ,in, deg, , ,, , ,, grid, , , ,
Point27,xy, , ,in, deg, , ,, , ,, grid, , , ,
Point28,xy, , ,in, deg, , ,, , ,, grid, , , ,
Point29,xy, , ,in, deg, , ,, , ,, grid, , , ,
Point30,xy, , ,in, deg, , ,, , ,, grid, , , ,
Projection Setup,,,,,,,,,,
Map Feature = MF ; Map Comment = MC These follow if they exist
Track File = TF These follow if they exist
Moving Map Parameters = MM? These follow if they exist
MM0,Yes
MMPNUM,4
MMPXY,1,1,0
MMPXY,2,4666,0
MMPXY,3,4715,3102
MMPXY,4,0,3110
MMPLL,1, -6.056484, 24.043488
MMPLL,2, -2.637056, 24.036868
MMPLL,3, -2.636994, 21.945361
MMPLL,4, -6.044269, 21.945076
MM1B,74.509314
MOP,Map Open Position,0,0
IWH,Map Image Width/Height,2500,1395
