OziExplorer Map Data File Version 2.2
Argelia 500k-16.PNG
Argelia 500k-16.PNG
1 ,Map Code,
Pulkovo 1942 (1),, 0.0000, 0.0000,WGS 84
Reserved 1
Reserved 2
Magnetic Variation,,,E
Map Projection,Latitude/Longitude,PolyCal,Yes,AutoCalOnly,No,BSBUseWPX,No
Point01,xy, 99, 62,in, deg, 24, 0.0000,N, 9, 0.0000,W, grid, , , ,
Point02,xy, 2141, 80,in, deg, 24, 0.0000,N, 7, 30.0000,W, grid, , , ,
Point03,xy, 4183, 76,in, deg, 24, 0.0000,N, 6, 0.0000,W, grid, , , ,
Point04,xy, 81, 1544,in, deg, 23, 0.0000,N, 9, 0.0000,W, grid, , , ,
Point05,xy, 2137, 1562,in, deg, 23, 0.0000,N, 7, 30.0000,W, grid, , , ,
Point06,xy, 4194, 1560,in, deg, 23, 0.0000,N, 6, 0.0000,W, grid, , , ,
Point07,xy, 64, 3026,in, deg, 22, 0.0000,N, 9, 0.0000,W, grid, , , ,
Point08,xy, 2134, 3045,in, deg, 22, 0.0000,N, 7, 30.0000,W, grid, , , ,
Point09,xy, 4204, 3042,in, deg, 22, 0.0000,N, 6, 0.0000,W, grid, , , ,
Point10,xy, , ,in, deg, , ,, , ,, grid, , , ,
Point11,xy, , ,in, deg, , ,, , ,, grid, , , ,
Point12,xy, , ,in, deg, , ,, , ,, grid, , , ,
Point13,xy, , ,in, deg, , ,, , ,, grid, , , ,
Point14,xy, , ,in, deg, , ,, , ,, grid, , , ,
Point15,xy, , ,in, deg, , ,, , ,, grid, , , ,
Point16,xy, , ,in, deg, , ,, , ,, grid, , , ,
Point17,xy, , ,in, deg, , ,, , ,, grid, , , ,
Point18,xy, , ,in, deg, , ,, , ,, grid, , , ,
Point19,xy, , ,in, deg, , ,, , ,, grid, , , ,
Point20,xy, , ,in, deg, , ,, , ,, grid, , , ,
Point21,xy, , ,in, deg, , ,, , ,, grid, , , ,
Point22,xy, , ,in, deg, , ,, , ,, grid, , , ,
Point23,xy, , ,in, deg, , ,, , ,, grid, , , ,
Point24,xy, , ,in, deg, , ,, , ,, grid, , , ,
Point25,xy, , ,in, deg, , ,, , ,, grid, , , ,
Point26,xy, , ,in, deg, , ,, , ,, grid, , , ,
Point27,xy, , ,in, deg, , ,, , ,, grid, , , ,
Point28,xy, , ,in, deg, , ,, , ,, grid, , , ,
Point29,xy, , ,in, deg, , ,, , ,, grid, , , ,
Point30,xy, , ,in, deg, , ,, , ,, grid, , , ,
Projection Setup,,,,,,,,,,
Map Feature = MF ; Map Comment = MC These follow if they exist
Track File = TF These follow if they exist
Moving Map Parameters = MM? These follow if they exist
MM0,Yes
MMPNUM,4
MMPXY,1,0,0
MMPXY,2,4665,0
MMPXY,3,4694,3124
MMPXY,4,0,3109
MMPLL,1, -9.073203, 24.040834
MMPLL,2, -5.645710, 24.048762
MMPLL,3, -5.645772, 21.942387
MMPLL,4, -9.045578, 21.943332
MM1B,74.651936
MOP,Map Open Position,0,0
IWH,Map Image Width/Height,2500,1395
