OziExplorer Map Data File Version 2.2
Argelia 500k-15.PNG
Argelia 500k-15.PNG
1 ,Map Code,
Pulkovo 1942 (1),, 0.0000, 0.0000,WGS 84
Reserved 1
Reserved 2
Magnetic Variation,,,E
Map Projection,Latitude/Longitude,PolyCal,Yes,AutoCalOnly,No,BSBUseWPX,No
Point01,xy, 82, 77,in, deg, 26, 0.0000,N, 6, 0.0000,W, grid, , , ,
Point02,xy, 2095, 89,in, deg, 26, 0.0000,N, 4, 30.0000,W, grid, , , ,
Point03,xy, 4106, 80,in, deg, 26, 0.0000,N, 3, 0.0000,W, grid, , , ,
Point04,xy, 69, 1561,in, deg, 25, 0.0000,N, 6, 0.0000,W, grid, , , ,
Point05,xy, 2098, 1572,in, deg, 25, 0.0000,N, 4, 30.0000,W, grid, , , ,
Point06,xy, 4125, 1559,in, deg, 25, 0.0000,N, 3, 0.0000,W, grid, , , ,
Point07,xy, 57, 3045,in, deg, 24, 0.0000,N, 6, 0.0000,W, grid, , , ,
Point08,xy, 2099, 3053,in, deg, 24, 0.0000,N, 4, 30.0000,W, grid, , , ,
Point09,xy, 4144, 3043,in, deg, 24, 0.0000,N, 3, 0.0000,W, grid, , , ,
Point10,xy, , ,in, deg, , ,, , ,, grid, , , ,
Point11,xy, , ,in, deg, , ,, , ,, grid, , , ,
Point12,xy, , ,in, deg, , ,, , ,, grid, , , ,
Point13,xy, , ,in, deg, , ,, , ,, grid, , , ,
Point14,xy, , ,in, deg, , ,, , ,, grid, , , ,
Point15,xy, , ,in, deg, , ,, , ,, grid, , , ,
Point16,xy, , ,in, deg, , ,, , ,, grid, , , ,
Point17,xy, , ,in, deg, , ,, , ,, grid, , , ,
Point18,xy, , ,in, deg, , ,, , ,, grid, , , ,
Point19,xy, , ,in, deg, , ,, , ,, grid, , , ,
Point20,xy, , ,in, deg, , ,, , ,, grid, , , ,
Point21,xy, , ,in, deg, , ,, , ,, grid, , , ,
Point22,xy, , ,in, deg, , ,, , ,, grid, , , ,
Point23,xy, , ,in, deg, , ,, , ,, grid, , , ,
Point24,xy, , ,in, deg, , ,, , ,, grid, , , ,
Point25,xy, , ,in, deg, , ,, , ,, grid, , , ,
Point26,xy, , ,in, deg, , ,, , ,, grid, , , ,
Point27,xy, , ,in, deg, , ,, , ,, grid, , , ,
Point28,xy, , ,in, deg, , ,, , ,, grid, , , ,
Point29,xy, , ,in, deg, , ,, , ,, grid, , , ,
Point30,xy, , ,in, deg, , ,, , ,, grid, , , ,
Projection Setup,,,,,,,,,,
Map Feature = MF ; Map Comment = MC These follow if they exist
Track File = TF These follow if they exist
Moving Map Parameters = MM? These follow if they exist
MM0,Yes
MMPNUM,4
MMPXY,1,0,1
MMPXY,2,4604,0
MMPXY,3,4651,3118
MMPXY,4,0,3127
MMPLL,1, -6.061767, 26.050911
MMPLL,2, -2.628092, 26.050003
MMPLL,3, -2.628345, 23.944590
MMPLL,4, -6.040804, 23.944354
MM1B,74.537396
MOP,Map Open Position,0,0
IWH,Map Image Width/Height,2500,1395
