OziExplorer Map Data File Version 2.2
BUCHANAN__________0612-B29WN.PNG
F:\mapas\africa\Africa Oeste (rusos) 1-500.000\BUCHANAN__________0612-B29WN.PNG
1 ,Map Code,
Pulkovo 1942 (1),, 0.0000, 0.0000,WGS 84
Reserved 1
Reserved 2
Magnetic Variation,,,E
Map Projection,Latitude/Longitude,PolyCal,Yes,AutoCalOnly,No,BSBUseWPX,No
Point01,xy, 60, 62,in, deg, 6, 0.0000,N, 12, 0.0000,W, grid, , , ,
Point02,xy, 2286, 65,in, deg, 6, 0.0000,N, 10, 30.0000,W, grid, , , ,
Point03,xy, 4515, 61,in, deg, 6, 0.0000,N, 9, 0.0000,W, grid, , , ,
Point04,xy, 61, 1544,in, deg, 5, 0.0000,N, 12, 0.0000,W, grid, , , ,
Point05,xy, 2290, 1544,in, deg, 5, 0.0000,N, 10, 30.0000,W, grid, , , ,
Point06,xy, 4522, 1540,in, deg, 5, 0.0000,N, 9, 0.0000,W, grid, , , ,
Point07,xy, 64, 3027,in, deg, 4, 0.0000,N, 12, 0.0000,W, grid, , , ,
Point08,xy, 2295, 3023,in, deg, 4, 0.0000,N, 10, 30.0000,W, grid, , , ,
Point09,xy, 4529, 3019,in, deg, 4, 0.0000,N, 9, 0.0000,W, grid, , , ,
Point10,xy, , ,in, deg, , ,, , ,, grid, , , ,
Point11,xy, , ,in, deg, , ,, , ,, grid, , , ,
Point12,xy, , ,in, deg, , ,, , ,, grid, , , ,
Point13,xy, , ,in, deg, , ,, , ,, grid, , , ,
Point14,xy, , ,in, deg, , ,, , ,, grid, , , ,
Point15,xy, , ,in, deg, , ,, , ,, grid, , , ,
Point16,xy, , ,in, deg, , ,, , ,, grid, , , ,
Point17,xy, , ,in, deg, , ,, , ,, grid, , , ,
Point18,xy, , ,in, deg, , ,, , ,, grid, , , ,
Point19,xy, , ,in, deg, , ,, , ,, grid, , , ,
Point20,xy, , ,in, deg, , ,, , ,, grid, , , ,
Point21,xy, , ,in, deg, , ,, , ,, grid, , , ,
Point22,xy, , ,in, deg, , ,, , ,, grid, , , ,
Point23,xy, , ,in, deg, , ,, , ,, grid, , , ,
Point24,xy, , ,in, deg, , ,, , ,, grid, , , ,
Point25,xy, , ,in, deg, , ,, , ,, grid, , , ,
Point26,xy, , ,in, deg, , ,, , ,, grid, , , ,
Point27,xy, , ,in, deg, , ,, , ,, grid, , , ,
Point28,xy, , ,in, deg, , ,, , ,, grid, , , ,
Point29,xy, , ,in, deg, , ,, , ,, grid, , , ,
Point30,xy, , ,in, deg, , ,, , ,, grid, , , ,
Projection Setup,,,,,,,,,,
Map Feature = MF ; Map Comment = MC These follow if they exist
Track File = TF These follow if they exist
Moving Map Parameters = MM? These follow if they exist
MM0,Yes
MMPNUM,4
MMPXY,1,0,1
MMPXY,2,5054,0
MMPXY,3,5070,3089
MMPXY,4,0,3098
MMPLL,1, -12.040318, 6.041430
MMPLL,2, -8.637542, 6.040974
MMPLL,3, -8.637475, 3.950980
MMPLL,4, -12.043041, 3.951637
MM1B,74.514735
LL Grid Setup
LLGRID,No,No Grid,Yes,255,16711680,0,No Labels,0,16777215,7,1,Yes,x
Other Grid Setup
GRGRID,No,No Grid,Yes,255,16711680,No Labels,0,16777215,8,1,Yes,No,No,x
MOP,Map Open Position,0,0
IWH,Map Image Width/Height,100,100
