OziExplorer Map Data File Version 2.2
BRIA______________0821-B34BN.PNG
F:\mapas\africa\Africa Este (rusos) 1-500.000\BRIA______________0821-B34BN.PNG
1 ,Map Code,
Pulkovo 1942 (1),, 0.0000, 0.0000,WGS 84
Reserved 1
Reserved 2
Magnetic Variation,,,E
Map Projection,Latitude/Longitude,PolyCal,Yes,AutoCalOnly,No,BSBUseWPX,No
Point01,xy, 61, 73,in, deg, 8, 0.0000,N, 21, 0.0000,E, grid, , , ,
Point02,xy, 2278, 76,in, deg, 8, 0.0000,N, 22, 30.0000,E, grid, , , ,
Point03,xy, 4493, 69,in, deg, 8, 0.0000,N, 24, 0.0000,E, grid, , , ,
Point04,xy, 61, 1553,in, deg, 7, 0.0000,N, 21, 0.0000,E, grid, , , ,
Point05,xy, 2282, 1556,in, deg, 7, 0.0000,N, 22, 30.0000,E, grid, , , ,
Point06,xy, 4500, 1551,in, deg, 7, 0.0000,N, 24, 0.0000,E, grid, , , ,
Point07,xy, 61, 3034,in, deg, 6, 0.0000,N, 21, 0.0000,E, grid, , , ,
Point08,xy, 2286, 3037,in, deg, 6, 0.0000,N, 22, 30.0000,E, grid, , , ,
Point09,xy, 4510, 3033,in, deg, 6, 0.0000,N, 24, 0.0000,E, grid, , , ,
Point10,xy, , ,in, deg, , ,, , ,, grid, , , ,
Point11,xy, , ,in, deg, , ,, , ,, grid, , , ,
Point12,xy, , ,in, deg, , ,, , ,, grid, , , ,
Point13,xy, , ,in, deg, , ,, , ,, grid, , , ,
Point14,xy, , ,in, deg, , ,, , ,, grid, , , ,
Point15,xy, , ,in, deg, , ,, , ,, grid, , , ,
Point16,xy, , ,in, deg, , ,, , ,, grid, , , ,
Point17,xy, , ,in, deg, , ,, , ,, grid, , , ,
Point18,xy, , ,in, deg, , ,, , ,, grid, , , ,
Point19,xy, , ,in, deg, , ,, , ,, grid, , , ,
Point20,xy, , ,in, deg, , ,, , ,, grid, , , ,
Point21,xy, , ,in, deg, , ,, , ,, grid, , , ,
Point22,xy, , ,in, deg, , ,, , ,, grid, , , ,
Point23,xy, , ,in, deg, , ,, , ,, grid, , , ,
Point24,xy, , ,in, deg, , ,, , ,, grid, , , ,
Point25,xy, , ,in, deg, , ,, , ,, grid, , , ,
Point26,xy, , ,in, deg, , ,, , ,, grid, , , ,
Point27,xy, , ,in, deg, , ,, , ,, grid, , , ,
Point28,xy, , ,in, deg, , ,, , ,, grid, , , ,
Point29,xy, , ,in, deg, , ,, , ,, grid, , , ,
Point30,xy, , ,in, deg, , ,, , ,, grid, , , ,
Projection Setup,,,,,,,,,,
Map Feature = MF ; Map Comment = MC These follow if they exist
Track File = TF These follow if they exist
Moving Map Parameters = MM? These follow if they exist
MM0,Yes
MMPNUM,4
MMPXY,1,0,0
MMPXY,2,4989,0
MMPXY,3,5009,3091
MMPXY,4,0,3094
MMPLL,1, 20.958532, 8.049349
MMPLL,2, 24.336540, 8.045132
MMPLL,3, 24.336851, 5.959319
MMPLL,4, 20.958821, 5.959129
MM1B,74.434877
LL Grid Setup
LLGRID,No,No Grid,Yes,255,16711680,0,No Labels,0,16777215,7,1,Yes,x
Other Grid Setup
GRGRID,No,No Grid,Yes,255,16711680,No Labels,0,16777215,8,1,Yes,No,No,x
MOP,Map Open Position,0,0
IWH,Map Image Width/Height,2500,1250
