OziExplorer Map Data File Version 2.2
BONTHE____________0815-B28BN.PNG
F:\mapas\africa\Africa Oeste (rusos) 1-500.000\BONTHE____________0815-B28BN.PNG
1 ,Map Code,
Pulkovo 1942 (1),, 0.0000, 0.0000,WGS 84
Reserved 1
Reserved 2
Magnetic Variation,,,E
Map Projection,Latitude/Longitude,PolyCal,Yes,AutoCalOnly,No,BSBUseWPX,No
Point01,xy, 64, 65,in, deg, 8, 0.0000,N, 15, 0.0000,W, grid, , , ,
Point02,xy, 2283, 67,in, deg, 8, 0.0000,N, 13, 30.0000,W, grid, , , ,
Point03,xy, 4502, 60,in, deg, 8, 0.0000,N, 12, 0.0000,W, grid, , , ,
Point04,xy, 63, 1544,in, deg, 7, 0.0000,N, 15, 0.0000,W, grid, , , ,
Point05,xy, 2286, 1548,in, deg, 7, 0.0000,N, 13, 30.0000,W, grid, , , ,
Point06,xy, 4509, 1542,in, deg, 7, 0.0000,N, 12, 0.0000,W, grid, , , ,
Point07,xy, 61, 3026,in, deg, 6, 0.0000,N, 15, 0.0000,W, grid, , , ,
Point08,xy, 2290, 3027,in, deg, 6, 0.0000,N, 13, 30.0000,W, grid, , , ,
Point09,xy, 4516, 3023,in, deg, 6, 0.0000,N, 12, 0.0000,W, grid, , , ,
Point10,xy, , ,in, deg, , ,, , ,, grid, , , ,
Point11,xy, , ,in, deg, , ,, , ,, grid, , , ,
Point12,xy, , ,in, deg, , ,, , ,, grid, , , ,
Point13,xy, , ,in, deg, , ,, , ,, grid, , , ,
Point14,xy, , ,in, deg, , ,, , ,, grid, , , ,
Point15,xy, , ,in, deg, , ,, , ,, grid, , , ,
Point16,xy, , ,in, deg, , ,, , ,, grid, , , ,
Point17,xy, , ,in, deg, , ,, , ,, grid, , , ,
Point18,xy, , ,in, deg, , ,, , ,, grid, , , ,
Point19,xy, , ,in, deg, , ,, , ,, grid, , , ,
Point20,xy, , ,in, deg, , ,, , ,, grid, , , ,
Point21,xy, , ,in, deg, , ,, , ,, grid, , , ,
Point22,xy, , ,in, deg, , ,, , ,, grid, , , ,
Point23,xy, , ,in, deg, , ,, , ,, grid, , , ,
Point24,xy, , ,in, deg, , ,, , ,, grid, , , ,
Point25,xy, , ,in, deg, , ,, , ,, grid, , , ,
Point26,xy, , ,in, deg, , ,, , ,, grid, , , ,
Point27,xy, , ,in, deg, , ,, , ,, grid, , , ,
Point28,xy, , ,in, deg, , ,, , ,, grid, , , ,
Point29,xy, , ,in, deg, , ,, , ,, grid, , , ,
Point30,xy, , ,in, deg, , ,, , ,, grid, , , ,
Projection Setup,,,,,,,,,,
Map Feature = MF ; Map Comment = MC These follow if they exist
Track File = TF These follow if they exist
Moving Map Parameters = MM? These follow if they exist
MM0,Yes
MMPNUM,4
MMPXY,1,0,0
MMPXY,2,4972,0
MMPXY,3,4989,3086
MMPXY,4,0,3090
MMPLL,1, -15.043229, 8.043686
MMPLL,2, -11.681733, 8.039265
MMPLL,3, -11.681722, 5.955922
MMPLL,4, -15.041300, 5.956069
MM1B,74.361761
LL Grid Setup
LLGRID,No,No Grid,Yes,255,16711680,0,No Labels,0,16777215,7,1,Yes,x
Other Grid Setup
GRGRID,No,No Grid,Yes,255,16711680,No Labels,0,16777215,8,1,Yes,No,No,x
MOP,Map Open Position,0,0
IWH,Map Image Width/Height,100,100
