OziExplorer Map Data File Version 2.2
BONGOR____________1215-C33BN.PNG
F:\mapas\africa\Africa Este (rusos) 1-500.000\BONGOR____________1215-C33BN.PNG
1 ,Map Code,
Pulkovo 1942 (1),, 0.0000, 0.0000,WGS 84
Reserved 1
Reserved 2
Magnetic Variation,,,E
Map Projection,Latitude/Longitude,PolyCal,Yes,AutoCalOnly,No,BSBUseWPX,No
Point01,xy, 86, 77,in, deg, 12, 0.0000,N, 15, 0.0000,E, grid, , , ,
Point02,xy, 2277, 84,in, deg, 12, 0.0000,N, 16, 30.0000,E, grid, , , ,
Point03,xy, 4471, 80,in, deg, 12, 0.0000,N, 18, 0.0000,E, grid, , , ,
Point04,xy, 74, 1555,in, deg, 11, 0.0000,N, 15, 0.0000,E, grid, , , ,
Point05,xy, 2274, 1564,in, deg, 11, 0.0000,N, 16, 30.0000,E, grid, , , ,
Point06,xy, 4473, 1560,in, deg, 11, 0.0000,N, 18, 0.0000,E, grid, , , ,
Point07,xy, 64, 3036,in, deg, 10, 0.0000,N, 15, 0.0000,E, grid, , , ,
Point08,xy, 2269, 3044,in, deg, 10, 0.0000,N, 16, 30.0000,E, grid, , , ,
Point09,xy, 4476, 3041,in, deg, 10, 0.0000,N, 18, 0.0000,E, grid, , , ,
Point10,xy, , ,in, deg, , ,, , ,, grid, , , ,
Point11,xy, , ,in, deg, , ,, , ,, grid, , , ,
Point12,xy, , ,in, deg, , ,, , ,, grid, , , ,
Point13,xy, , ,in, deg, , ,, , ,, grid, , , ,
Point14,xy, , ,in, deg, , ,, , ,, grid, , , ,
Point15,xy, , ,in, deg, , ,, , ,, grid, , , ,
Point16,xy, , ,in, deg, , ,, , ,, grid, , , ,
Point17,xy, , ,in, deg, , ,, , ,, grid, , , ,
Point18,xy, , ,in, deg, , ,, , ,, grid, , , ,
Point19,xy, , ,in, deg, , ,, , ,, grid, , , ,
Point20,xy, , ,in, deg, , ,, , ,, grid, , , ,
Point21,xy, , ,in, deg, , ,, , ,, grid, , , ,
Point22,xy, , ,in, deg, , ,, , ,, grid, , , ,
Point23,xy, , ,in, deg, , ,, , ,, grid, , , ,
Point24,xy, , ,in, deg, , ,, , ,, grid, , , ,
Point25,xy, , ,in, deg, , ,, , ,, grid, , , ,
Point26,xy, , ,in, deg, , ,, , ,, grid, , , ,
Point27,xy, , ,in, deg, , ,, , ,, grid, , , ,
Point28,xy, , ,in, deg, , ,, , ,, grid, , , ,
Point29,xy, , ,in, deg, , ,, , ,, grid, , , ,
Point30,xy, , ,in, deg, , ,, , ,, grid, , , ,
Projection Setup,,,,,,,,,,
Map Feature = MF ; Map Comment = MC These follow if they exist
Track File = TF These follow if they exist
Moving Map Parameters = MM? These follow if they exist
MM0,Yes
MMPNUM,4
MMPXY,1,0,0
MMPXY,2,4965,0
MMPXY,3,4973,3119
MMPXY,4,0,3116
MMPLL,1, 14.940969, 12.051544
MMPLL,2, 18.337997, 12.052396
MMPLL,3, 18.337557, 9.945839
MMPLL,4, 14.956989, 9.945509
MM1B,74.420798
LL Grid Setup
LLGRID,No,No Grid,Yes,255,16711680,0,No Labels,0,16777215,7,1,Yes,x
Other Grid Setup
GRGRID,No,No Grid,Yes,255,16711680,No Labels,0,16777215,8,1,Yes,No,No,x
MOP,Map Open Position,0,0
IWH,Map Image Width/Height,2500,1250
