OziExplorer Map Data File Version 2.2
BOL_______________1412-D33WN.PNG
F:\mapas\africa\Africa Este (rusos) 1-500.000\BOL_______________1412-D33WN.PNG
1 ,Map Code,
Pulkovo 1942 (1),, 0.0000, 0.0000,WGS 84
Reserved 1
Reserved 2
Magnetic Variation,,,E
Map Projection,Latitude/Longitude,PolyCal,Yes,AutoCalOnly,No,BSBUseWPX,No
Point01,xy, 88, 68,in, deg, 14, 0.0000,N, 12, 0.0000,E, grid, , , ,
Point02,xy, 2258, 78,in, deg, 14, 0.0000,N, 13, 30.0000,E, grid, , , ,
Point03,xy, 4423, 76,in, deg, 14, 0.0000,N, 15, 0.0000,E, grid, , , ,
Point04,xy, 79, 1548,in, deg, 13, 0.0000,N, 12, 0.0000,E, grid, , , ,
Point05,xy, 2260, 1557,in, deg, 13, 0.0000,N, 13, 30.0000,E, grid, , , ,
Point06,xy, 4433, 1552,in, deg, 13, 0.0000,N, 15, 0.0000,E, grid, , , ,
Point07,xy, 72, 3028,in, deg, 12, 0.0000,N, 12, 0.0000,E, grid, , , ,
Point08,xy, 2262, 3038,in, deg, 12, 0.0000,N, 13, 30.0000,E, grid, , , ,
Point09,xy, 4444, 3029,in, deg, 12, 0.0000,N, 15, 0.0000,E, grid, , , ,
Point10,xy, , ,in, deg, , ,, , ,, grid, , , ,
Point11,xy, , ,in, deg, , ,, , ,, grid, , , ,
Point12,xy, , ,in, deg, , ,, , ,, grid, , , ,
Point13,xy, , ,in, deg, , ,, , ,, grid, , , ,
Point14,xy, , ,in, deg, , ,, , ,, grid, , , ,
Point15,xy, , ,in, deg, , ,, , ,, grid, , , ,
Point16,xy, , ,in, deg, , ,, , ,, grid, , , ,
Point17,xy, , ,in, deg, , ,, , ,, grid, , , ,
Point18,xy, , ,in, deg, , ,, , ,, grid, , , ,
Point19,xy, , ,in, deg, , ,, , ,, grid, , , ,
Point20,xy, , ,in, deg, , ,, , ,, grid, , , ,
Point21,xy, , ,in, deg, , ,, , ,, grid, , , ,
Point22,xy, , ,in, deg, , ,, , ,, grid, , , ,
Point23,xy, , ,in, deg, , ,, , ,, grid, , , ,
Point24,xy, , ,in, deg, , ,, , ,, grid, , , ,
Point25,xy, , ,in, deg, , ,, , ,, grid, , , ,
Point26,xy, , ,in, deg, , ,, , ,, grid, , , ,
Point27,xy, , ,in, deg, , ,, , ,, grid, , , ,
Point28,xy, , ,in, deg, , ,, , ,, grid, , , ,
Point29,xy, , ,in, deg, , ,, , ,, grid, , , ,
Point30,xy, , ,in, deg, , ,, , ,, grid, , , ,
Projection Setup,,,,,,,,,,
Map Feature = MF ; Map Comment = MC These follow if they exist
Track File = TF These follow if they exist
Moving Map Parameters = MM? These follow if they exist
MM0,Yes
MMPNUM,4
MMPXY,1,0,0
MMPXY,2,4951,0
MMPXY,3,4978,3098
MMPXY,4,0,3100
MMPLL,1, 11.939305, 14.045150
MMPLL,2, 15.367295, 14.048964
MMPLL,3, 15.367084, 11.950981
MMPLL,4, 11.950933, 11.951566
MM1B,74.401574
LL Grid Setup
LLGRID,No,No Grid,Yes,255,16711680,0,No Labels,0,16777215,7,1,Yes,x
Other Grid Setup
GRGRID,No,No Grid,Yes,255,16711680,No Labels,0,16777215,8,1,Yes,No,No,x
MOP,Map Open Position,0,0
IWH,Map Image Width/Height,2500,1250
