OziExplorer Map Data File Version 2.2
BISSAU____________1218-C28AN.PNG
F:\mapas\africa\Africa Oeste (rusos) 1-500.000\BISSAU____________1218-C28AN.PNG
1 ,Map Code,
Pulkovo 1942 (1),, 0.0000, 0.0000,WGS 84
Reserved 1
Reserved 2
Magnetic Variation,,,E
Map Projection,Latitude/Longitude,PolyCal,Yes,AutoCalOnly,No,BSBUseWPX,No
Point01,xy, 68, 69,in, deg, 12, 0.0000,N, 18, 0.0000,W, grid, , , ,
Point02,xy, 2260, 72,in, deg, 12, 0.0000,N, 16, 30.0000,W, grid, , , ,
Point03,xy, 4453, 64,in, deg, 12, 0.0000,N, 15, 0.0000,W, grid, , , ,
Point04,xy, 67, 1549,in, deg, 11, 0.0000,N, 18, 0.0000,W, grid, , , ,
Point05,xy, 2265, 1554,in, deg, 11, 0.0000,N, 16, 30.0000,W, grid, , , ,
Point06,xy, 4465, 1544,in, deg, 11, 0.0000,N, 15, 0.0000,W, grid, , , ,
Point07,xy, 66, 3031,in, deg, 10, 0.0000,N, 18, 0.0000,W, grid, , , ,
Point08,xy, 2272, 3032,in, deg, 10, 0.0000,N, 16, 30.0000,W, grid, , , ,
Point09,xy, 4476, 3024,in, deg, 10, 0.0000,N, 15, 0.0000,W, grid, , , ,
Point10,xy, , ,in, deg, , ,, , ,, grid, , , ,
Point11,xy, , ,in, deg, , ,, , ,, grid, , , ,
Point12,xy, , ,in, deg, , ,, , ,, grid, , , ,
Point13,xy, , ,in, deg, , ,, , ,, grid, , , ,
Point14,xy, , ,in, deg, , ,, , ,, grid, , , ,
Point15,xy, , ,in, deg, , ,, , ,, grid, , , ,
Point16,xy, , ,in, deg, , ,, , ,, grid, , , ,
Point17,xy, , ,in, deg, , ,, , ,, grid, , , ,
Point18,xy, , ,in, deg, , ,, , ,, grid, , , ,
Point19,xy, , ,in, deg, , ,, , ,, grid, , , ,
Point20,xy, , ,in, deg, , ,, , ,, grid, , , ,
Point21,xy, , ,in, deg, , ,, , ,, grid, , , ,
Point22,xy, , ,in, deg, , ,, , ,, grid, , , ,
Point23,xy, , ,in, deg, , ,, , ,, grid, , , ,
Point24,xy, , ,in, deg, , ,, , ,, grid, , , ,
Point25,xy, , ,in, deg, , ,, , ,, grid, , , ,
Point26,xy, , ,in, deg, , ,, , ,, grid, , , ,
Point27,xy, , ,in, deg, , ,, , ,, grid, , , ,
Point28,xy, , ,in, deg, , ,, , ,, grid, , , ,
Point29,xy, , ,in, deg, , ,, , ,, grid, , , ,
Point30,xy, , ,in, deg, , ,, , ,, grid, , , ,
Projection Setup,,,,,,,,,,
Map Feature = MF ; Map Comment = MC These follow if they exist
Track File = TF These follow if they exist
Moving Map Parameters = MM? These follow if they exist
MM0,Yes
MMPNUM,4
MMPXY,1,0,0
MMPXY,2,5038,0
MMPXY,3,5066,3095
MMPXY,4,0,3106
MMPLL,1, -18.046435, 12.046187
MMPLL,2, -14.599475, 12.040464
MMPLL,3, -14.599524, 9.948818
MMPLL,4, -18.045090, 9.948744
MM1B,74.388907
LL Grid Setup
LLGRID,No,No Grid,Yes,255,16711680,0,No Labels,0,16777215,7,1,Yes,x
Other Grid Setup
GRGRID,No,No Grid,Yes,255,16711680,No Labels,0,16777215,8,1,Yes,No,No,x
MOP,Map Open Position,0,0
IWH,Map Image Width/Height,100,100
