OziExplorer Map Data File Version 2.2
BISCHARA__________2421-F34BN.PNG
F:\mapas\africa\Africa Este (rusos) 1-500.000\BISCHARA__________2421-F34BN.PNG
1 ,Map Code,
Pulkovo 1942 (1),, 0.0000, 0.0000,WGS 84
Reserved 1
Reserved 2
Magnetic Variation,,,E
Map Projection,Latitude/Longitude,PolyCal,Yes,AutoCalOnly,No,BSBUseWPX,No
Point01,xy, 90, 59,in, deg, 24, 0.0000,N, 21, 0.0000,E, grid, , , ,
Point02,xy, 2133, 74,in, deg, 24, 0.0000,N, 22, 30.0000,E, grid, , , ,
Point03,xy, 4178, 72,in, deg, 24, 0.0000,N, 24, 0.0000,E, grid, , , ,
Point04,xy, 72, 1537,in, deg, 23, 0.0000,N, 21, 0.0000,E, grid, , , ,
Point05,xy, 2131, 1556,in, deg, 23, 0.0000,N, 22, 30.0000,E, grid, , , ,
Point06,xy, 4188, 1554,in, deg, 23, 0.0000,N, 24, 0.0000,E, grid, , , ,
Point07,xy, 57, 3018,in, deg, 22, 0.0000,N, 21, 0.0000,E, grid, , , ,
Point08,xy, 2129, 3037,in, deg, 22, 0.0000,N, 22, 30.0000,E, grid, , , ,
Point09,xy, 4201, 3037,in, deg, 22, 0.0000,N, 24, 0.0000,E, grid, , , ,
Point10,xy, , ,in, deg, , ,, , ,, grid, , , ,
Point11,xy, , ,in, deg, , ,, , ,, grid, , , ,
Point12,xy, , ,in, deg, , ,, , ,, grid, , , ,
Point13,xy, , ,in, deg, , ,, , ,, grid, , , ,
Point14,xy, , ,in, deg, , ,, , ,, grid, , , ,
Point15,xy, , ,in, deg, , ,, , ,, grid, , , ,
Point16,xy, , ,in, deg, , ,, , ,, grid, , , ,
Point17,xy, , ,in, deg, , ,, , ,, grid, , , ,
Point18,xy, , ,in, deg, , ,, , ,, grid, , , ,
Point19,xy, , ,in, deg, , ,, , ,, grid, , , ,
Point20,xy, , ,in, deg, , ,, , ,, grid, , , ,
Point21,xy, , ,in, deg, , ,, , ,, grid, , , ,
Point22,xy, , ,in, deg, , ,, , ,, grid, , , ,
Point23,xy, , ,in, deg, , ,, , ,, grid, , , ,
Point24,xy, , ,in, deg, , ,, , ,, grid, , , ,
Point25,xy, , ,in, deg, , ,, , ,, grid, , , ,
Point26,xy, , ,in, deg, , ,, , ,, grid, , , ,
Point27,xy, , ,in, deg, , ,, , ,, grid, , , ,
Point28,xy, , ,in, deg, , ,, , ,, grid, , , ,
Point29,xy, , ,in, deg, , ,, , ,, grid, , , ,
Point30,xy, , ,in, deg, , ,, , ,, grid, , , ,
Projection Setup,,,,,,,,,,
Map Feature = MF ; Map Comment = MC These follow if they exist
Track File = TF These follow if they exist
Moving Map Parameters = MM? These follow if they exist
MM0,Yes
MMPNUM,4
MMPXY,1,0,0
MMPXY,2,4651,0
MMPXY,3,4682,3111
MMPXY,4,0,3093
MMPLL,1, 20.933657, 24.038785
MMPLL,2, 24.347794, 24.046197
MMPLL,3, 24.347581, 21.948447
MMPLL,4, 20.959280, 21.948704
MM1B,74.570131
LL Grid Setup
LLGRID,No,No Grid,Yes,255,16711680,0,No Labels,0,16777215,7,1,Yes,x
Other Grid Setup
GRGRID,No,No Grid,Yes,255,16711680,No Labels,0,16777215,8,1,Yes,No,No,x
MOP,Map Open Position,0,0
IWH,Map Image Width/Height,2500,1250
