OziExplorer Map Data File Version 2.2
BIR OUNANE________2206-F30WN.PNG
F:\mapas\africa\Africa Oeste (rusos) 1-500.000\BIR OUNANE________2206-F30WN.PNG
1 ,Map Code,
Pulkovo 1942 (1),, 0.0000, 0.0000,WGS 84
Reserved 1
Reserved 2
Magnetic Variation,,,E
Map Projection,Latitude/Longitude,PolyCal,Yes,AutoCalOnly,No,BSBUseWPX,No
Point01,xy, 87, 71,in, deg, 22, 0.0000,N, 6, 0.0000,W, grid, , , ,
Point02,xy, 2161, 82,in, deg, 22, 0.0000,N, 4, 30.0000,W, grid, , , ,
Point03,xy, 4236, 76,in, deg, 22, 0.0000,N, 3, 0.0000,W, grid, , , ,
Point04,xy, 75, 1556,in, deg, 21, 0.0000,N, 6, 0.0000,W, grid, , , ,
Point05,xy, 2162, 1568,in, deg, 21, 0.0000,N, 4, 30.0000,W, grid, , , ,
Point06,xy, 4250, 1559,in, deg, 21, 0.0000,N, 3, 0.0000,W, grid, , , ,
Point07,xy, 62, 3037,in, deg, 20, 0.0000,N, 6, 0.0000,W, grid, , , ,
Point08,xy, 2165, 3047,in, deg, 20, 0.0000,N, 4, 30.0000,W, grid, , , ,
Point09,xy, 4265, 3038,in, deg, 20, 0.0000,N, 3, 0.0000,W, grid, , , ,
Point10,xy, , ,in, deg, , ,, , ,, grid, , , ,
Point11,xy, , ,in, deg, , ,, , ,, grid, , , ,
Point12,xy, , ,in, deg, , ,, , ,, grid, , , ,
Point13,xy, , ,in, deg, , ,, , ,, grid, , , ,
Point14,xy, , ,in, deg, , ,, , ,, grid, , , ,
Point15,xy, , ,in, deg, , ,, , ,, grid, , , ,
Point16,xy, , ,in, deg, , ,, , ,, grid, , , ,
Point17,xy, , ,in, deg, , ,, , ,, grid, , , ,
Point18,xy, , ,in, deg, , ,, , ,, grid, , , ,
Point19,xy, , ,in, deg, , ,, , ,, grid, , , ,
Point20,xy, , ,in, deg, , ,, , ,, grid, , , ,
Point21,xy, , ,in, deg, , ,, , ,, grid, , , ,
Point22,xy, , ,in, deg, , ,, , ,, grid, , , ,
Point23,xy, , ,in, deg, , ,, , ,, grid, , , ,
Point24,xy, , ,in, deg, , ,, , ,, grid, , , ,
Point25,xy, , ,in, deg, , ,, , ,, grid, , , ,
Point26,xy, , ,in, deg, , ,, , ,, grid, , , ,
Point27,xy, , ,in, deg, , ,, , ,, grid, , , ,
Point28,xy, , ,in, deg, , ,, , ,, grid, , , ,
Point29,xy, , ,in, deg, , ,, , ,, grid, , , ,
Point30,xy, , ,in, deg, , ,, , ,, grid, , , ,
Projection Setup,,,,,,,,,,
Map Feature = MF ; Map Comment = MC These follow if they exist
Track File = TF These follow if they exist
Moving Map Parameters = MM? These follow if they exist
MM0,Yes
MMPNUM,4
MMPXY,1,0,0
MMPXY,2,4736,0
MMPXY,3,4774,3108
MMPXY,4,0,3111
MMPLL,1, -6.063316, 22.046859
MMPLL,2, -2.637489, 22.047861
MMPLL,3, -2.637475, 19.949162
MMPLL,4, -6.044259, 19.949540
MM1B,74.556091
LL Grid Setup
LLGRID,No,No Grid,Yes,255,16711680,0,No Labels,0,16777215,7,1,Yes,x
Other Grid Setup
GRGRID,No,No Grid,Yes,255,16711680,No Labels,0,16777215,8,1,Yes,No,No,x
MOP,Map Open Position,0,0
IWH,Map Image Width/Height,100,100
