OziExplorer Map Data File Version 2.2
BIR MOGREIN_______2612-G29WN.PNG
F:\mapas\africa\Africa Oeste (rusos) 1-500.000\BIR MOGREIN_______2612-G29WN.PNG
1 ,Map Code,
Pulkovo 1942 (1),, 0.0000, 0.0000,WGS 84
Reserved 1
Reserved 2
Magnetic Variation,,,E
Map Projection,Latitude/Longitude,PolyCal,Yes,AutoCalOnly,No,BSBUseWPX,No
Point01,xy, 89, 58,in, deg, 26, 0.0000,N, 12, 0.0000,W, grid, , , ,
Point02,xy, 2102, 78,in, deg, 26, 0.0000,N, 10, 30.0000,W, grid, , , ,
Point03,xy, 4113, 74,in, deg, 26, 0.0000,N, 9, 0.0000,W, grid, , , ,
Point04,xy, 74, 1541,in, deg, 25, 0.0000,N, 12, 0.0000,W, grid, , , ,
Point05,xy, 2101, 1563,in, deg, 25, 0.0000,N, 10, 30.0000,W, grid, , , ,
Point06,xy, 4129, 1556,in, deg, 25, 0.0000,N, 9, 0.0000,W, grid, , , ,
Point07,xy, 58, 3025,in, deg, 24, 0.0000,N, 12, 0.0000,W, grid, , , ,
Point08,xy, 2099, 3041,in, deg, 24, 0.0000,N, 10, 30.0000,W, grid, , , ,
Point09,xy, 4142, 3038,in, deg, 24, 0.0000,N, 9, 0.0000,W, grid, , , ,
Point10,xy, , ,in, deg, , ,, , ,, grid, , , ,
Point11,xy, , ,in, deg, , ,, , ,, grid, , , ,
Point12,xy, , ,in, deg, , ,, , ,, grid, , , ,
Point13,xy, , ,in, deg, , ,, , ,, grid, , , ,
Point14,xy, , ,in, deg, , ,, , ,, grid, , , ,
Point15,xy, , ,in, deg, , ,, , ,, grid, , , ,
Point16,xy, , ,in, deg, , ,, , ,, grid, , , ,
Point17,xy, , ,in, deg, , ,, , ,, grid, , , ,
Point18,xy, , ,in, deg, , ,, , ,, grid, , , ,
Point19,xy, , ,in, deg, , ,, , ,, grid, , , ,
Point20,xy, , ,in, deg, , ,, , ,, grid, , , ,
Point21,xy, , ,in, deg, , ,, , ,, grid, , , ,
Point22,xy, , ,in, deg, , ,, , ,, grid, , , ,
Point23,xy, , ,in, deg, , ,, , ,, grid, , , ,
Point24,xy, , ,in, deg, , ,, , ,, grid, , , ,
Point25,xy, , ,in, deg, , ,, , ,, grid, , , ,
Point26,xy, , ,in, deg, , ,, , ,, grid, , , ,
Point27,xy, , ,in, deg, , ,, , ,, grid, , , ,
Point28,xy, , ,in, deg, , ,, , ,, grid, , , ,
Point29,xy, , ,in, deg, , ,, , ,, grid, , , ,
Point30,xy, , ,in, deg, , ,, , ,, grid, , , ,
Projection Setup,,,,,,,,,,
Map Feature = MF ; Map Comment = MC These follow if they exist
Track File = TF These follow if they exist
Moving Map Parameters = MM? These follow if they exist
MM0,Yes
MMPNUM,4
MMPXY,1,0,0
MMPXY,2,4589,0
MMPXY,3,4626,3113
MMPXY,4,0,3103
MMPLL,1, -12.066943, 26.038017
MMPLL,2, -8.644959, 26.046947
MMPLL,3, -8.645118, 23.945556
MMPLL,4, -12.041572, 23.946137
MM1B,74.555885
LL Grid Setup
LLGRID,No,No Grid,Yes,255,16711680,0,No Labels,0,16777215,7,1,Yes,x
Other Grid Setup
GRGRID,No,No Grid,Yes,255,16711680,No Labels,0,16777215,8,1,Yes,No,No,x
MOP,Map Open Position,0,0
IWH,Map Image Width/Height,100,100
