OziExplorer Map Data File Version 2.2
BIR AL DECHEB_____2603-G30GN.PNG
F:\mapas\africa\Africa Oeste (rusos) 1-500.000\BIR AL DECHEB_____2603-G30GN.PNG
1 ,Map Code,
Pulkovo 1942 (1),, 0.0000, 0.0000,WGS 84
Reserved 1
Reserved 2
Magnetic Variation,,,E
Map Projection,Latitude/Longitude,PolyCal,Yes,AutoCalOnly,No,BSBUseWPX,No
Point01,xy, 85, 58,in, deg, 26, 0.0000,N, 3, 0.0000,W, grid, , , ,
Point02,xy, 2098, 74,in, deg, 26, 0.0000,N, 1, 30.0000,W, grid, , , ,
Point03,xy, 4111, 66,in, deg, 26, 0.0000,N, 0, 0.0000,E, grid, , , ,
Point04,xy, 70, 1540,in, deg, 25, 0.0000,N, 3, 0.0000,W, grid, , , ,
Point05,xy, 2098, 1557,in, deg, 25, 0.0000,N, 1, 30.0000,W, grid, , , ,
Point06,xy, 4127, 1549,in, deg, 25, 0.0000,N, 0, 0.0000,E, grid, , , ,
Point07,xy, 55, 3022,in, deg, 24, 0.0000,N, 3, 0.0000,W, grid, , , ,
Point08,xy, 2099, 3038,in, deg, 24, 0.0000,N, 1, 30.0000,W, grid, , , ,
Point09,xy, 4142, 3033,in, deg, 24, 0.0000,N, 0, 0.0000,E, grid, , , ,
Point10,xy, , ,in, deg, , ,, , ,, grid, , , ,
Point11,xy, , ,in, deg, , ,, , ,, grid, , , ,
Point12,xy, , ,in, deg, , ,, , ,, grid, , , ,
Point13,xy, , ,in, deg, , ,, , ,, grid, , , ,
Point14,xy, , ,in, deg, , ,, , ,, grid, , , ,
Point15,xy, , ,in, deg, , ,, , ,, grid, , , ,
Point16,xy, , ,in, deg, , ,, , ,, grid, , , ,
Point17,xy, , ,in, deg, , ,, , ,, grid, , , ,
Point18,xy, , ,in, deg, , ,, , ,, grid, , , ,
Point19,xy, , ,in, deg, , ,, , ,, grid, , , ,
Point20,xy, , ,in, deg, , ,, , ,, grid, , , ,
Point21,xy, , ,in, deg, , ,, , ,, grid, , , ,
Point22,xy, , ,in, deg, , ,, , ,, grid, , , ,
Point23,xy, , ,in, deg, , ,, , ,, grid, , , ,
Point24,xy, , ,in, deg, , ,, , ,, grid, , , ,
Point25,xy, , ,in, deg, , ,, , ,, grid, , , ,
Point26,xy, , ,in, deg, , ,, , ,, grid, , , ,
Point27,xy, , ,in, deg, , ,, , ,, grid, , , ,
Point28,xy, , ,in, deg, , ,, , ,, grid, , , ,
Point29,xy, , ,in, deg, , ,, , ,, grid, , , ,
Point30,xy, , ,in, deg, , ,, , ,, grid, , , ,
Projection Setup,,,,,,,,,,
Map Feature = MF ; Map Comment = MC These follow if they exist
Track File = TF These follow if they exist
Moving Map Parameters = MM? These follow if they exist
MM0,Yes
MMPNUM,4
MMPXY,1,0,0
MMPXY,2,4579,0
MMPXY,3,4619,3098
MMPXY,4,0,3091
MMPLL,1, -3.063720, 26.038471
MMPLL,2, 0.349242, 26.041027
MMPLL,3, 0.349271, 23.952615
MMPLL,4, -3.039899, 23.952694
MM1B,74.508516
LL Grid Setup
LLGRID,No,No Grid,Yes,255,16711680,0,No Labels,0,16777215,7,1,Yes,x
Other Grid Setup
GRGRID,No,No Grid,Yes,255,16711680,No Labels,0,16777215,8,1,Yes,No,No,x
MOP,Map Open Position,0,0
IWH,Map Image Width/Height,100,100
