OziExplorer Map Data File Version 2.2
BERTOUA___________0612-B33WN.PNG
F:\mapas\africa\Africa Este (rusos) 1-500.000\BERTOUA___________0612-B33WN.PNG
1 ,Map Code,
Pulkovo 1942 (1),, 0.0000, 0.0000,WGS 84
Reserved 1
Reserved 2
Magnetic Variation,,,E
Map Projection,Latitude/Longitude,PolyCal,Yes,AutoCalOnly,No,BSBUseWPX,No
Point01,xy, 66, 67,in, deg, 6, 0.0000,N, 12, 0.0000,E, grid, , , ,
Point02,xy, 2293, 70,in, deg, 6, 0.0000,N, 13, 30.0000,E, grid, , , ,
Point03,xy, 4519, 72,in, deg, 6, 0.0000,N, 15, 0.0000,E, grid, , , ,
Point04,xy, 65, 1547,in, deg, 5, 0.0000,N, 12, 0.0000,E, grid, , , ,
Point05,xy, 2294, 1549,in, deg, 5, 0.0000,N, 13, 30.0000,E, grid, , , ,
Point06,xy, 4523, 1552,in, deg, 5, 0.0000,N, 15, 0.0000,E, grid, , , ,
Point07,xy, 65, 3031,in, deg, 4, 0.0000,N, 12, 0.0000,E, grid, , , ,
Point08,xy, 2298, 3031,in, deg, 4, 0.0000,N, 13, 30.0000,E, grid, , , ,
Point09,xy, 4527, 3032,in, deg, 4, 0.0000,N, 15, 0.0000,E, grid, , , ,
Point10,xy, , ,in, deg, , ,, , ,, grid, , , ,
Point11,xy, , ,in, deg, , ,, , ,, grid, , , ,
Point12,xy, , ,in, deg, , ,, , ,, grid, , , ,
Point13,xy, , ,in, deg, , ,, , ,, grid, , , ,
Point14,xy, , ,in, deg, , ,, , ,, grid, , , ,
Point15,xy, , ,in, deg, , ,, , ,, grid, , , ,
Point16,xy, , ,in, deg, , ,, , ,, grid, , , ,
Point17,xy, , ,in, deg, , ,, , ,, grid, , , ,
Point18,xy, , ,in, deg, , ,, , ,, grid, , , ,
Point19,xy, , ,in, deg, , ,, , ,, grid, , , ,
Point20,xy, , ,in, deg, , ,, , ,, grid, , , ,
Point21,xy, , ,in, deg, , ,, , ,, grid, , , ,
Point22,xy, , ,in, deg, , ,, , ,, grid, , , ,
Point23,xy, , ,in, deg, , ,, , ,, grid, , , ,
Point24,xy, , ,in, deg, , ,, , ,, grid, , , ,
Point25,xy, , ,in, deg, , ,, , ,, grid, , , ,
Point26,xy, , ,in, deg, , ,, , ,, grid, , , ,
Point27,xy, , ,in, deg, , ,, , ,, grid, , , ,
Point28,xy, , ,in, deg, , ,, , ,, grid, , , ,
Point29,xy, , ,in, deg, , ,, , ,, grid, , , ,
Point30,xy, , ,in, deg, , ,, , ,, grid, , , ,
Projection Setup,,,,,,,,,,
Map Feature = MF ; Map Comment = MC These follow if they exist
Track File = TF These follow if they exist
Moving Map Parameters = MM? These follow if they exist
MM0,Yes
MMPNUM,4
MMPXY,1,0,0
MMPXY,2,5006,1
MMPXY,3,5016,3095
MMPXY,4,0,3093
MMPLL,1, 11.955651, 6.045161
MMPLL,2, 15.328484, 6.048914
MMPLL,3, 15.328546, 3.957818
MMPLL,4, 11.956098, 3.957919
MM1B,74.396832
LL Grid Setup
LLGRID,No,No Grid,Yes,255,16711680,0,No Labels,0,16777215,7,1,Yes,x
Other Grid Setup
GRGRID,No,No Grid,Yes,255,16711680,No Labels,0,16777215,8,1,Yes,No,No,x
MOP,Map Open Position,0,0
IWH,Map Image Width/Height,2500,1250
