OziExplorer Map Data File Version 2.2
BEREEDA___________1251-C39BN.PNG
F:\mapas\africa\Africa Este (rusos) 1-500.000\BEREEDA___________1251-C39BN.PNG
1 ,Map Code,
Pulkovo 1942 (1),, 0.0000, 0.0000,WGS 84
Reserved 1
Reserved 2
Magnetic Variation,,,E
Map Projection,Latitude/Longitude,PolyCal,Yes,AutoCalOnly,No,BSBUseWPX,No
Point01,xy, 89, 67,in, deg, 12, 0.0000,N, 51, 0.0000,E, grid, , , ,
Point02,xy, 2280, 73,in, deg, 12, 0.0000,N, 52, 30.0000,E, grid, , , ,
Point03,xy, 4473, 63,in, deg, 12, 0.0000,N, 54, 0.0000,E, grid, , , ,
Point04,xy, 77, 1546,in, deg, 11, 0.0000,N, 51, 0.0000,E, grid, , , ,
Point05,xy, 2277, 1554,in, deg, 11, 0.0000,N, 52, 30.0000,E, grid, , , ,
Point06,xy, 4476, 1541,in, deg, 11, 0.0000,N, 54, 0.0000,E, grid, , , ,
Point07,xy, 67, 3022,in, deg, 10, 0.0000,N, 51, 0.0000,E, grid, , , ,
Point08,xy, 2274, 3029,in, deg, 10, 0.0000,N, 52, 30.0000,E, grid, , , ,
Point09,xy, 4479, 3021,in, deg, 10, 0.0000,N, 54, 0.0000,E, grid, , , ,
Point10,xy, , ,in, deg, , ,, , ,, grid, , , ,
Point11,xy, , ,in, deg, , ,, , ,, grid, , , ,
Point12,xy, , ,in, deg, , ,, , ,, grid, , , ,
Point13,xy, , ,in, deg, , ,, , ,, grid, , , ,
Point14,xy, , ,in, deg, , ,, , ,, grid, , , ,
Point15,xy, , ,in, deg, , ,, , ,, grid, , , ,
Point16,xy, , ,in, deg, , ,, , ,, grid, , , ,
Point17,xy, , ,in, deg, , ,, , ,, grid, , , ,
Point18,xy, , ,in, deg, , ,, , ,, grid, , , ,
Point19,xy, , ,in, deg, , ,, , ,, grid, , , ,
Point20,xy, , ,in, deg, , ,, , ,, grid, , , ,
Point21,xy, , ,in, deg, , ,, , ,, grid, , , ,
Point22,xy, , ,in, deg, , ,, , ,, grid, , , ,
Point23,xy, , ,in, deg, , ,, , ,, grid, , , ,
Point24,xy, , ,in, deg, , ,, , ,, grid, , , ,
Point25,xy, , ,in, deg, , ,, , ,, grid, , , ,
Point26,xy, , ,in, deg, , ,, , ,, grid, , , ,
Point27,xy, , ,in, deg, , ,, , ,, grid, , , ,
Point28,xy, , ,in, deg, , ,, , ,, grid, , , ,
Point29,xy, , ,in, deg, , ,, , ,, grid, , , ,
Point30,xy, , ,in, deg, , ,, , ,, grid, , , ,
Projection Setup,,,,,,,,,,
Map Feature = MF ; Map Comment = MC These follow if they exist
Track File = TF These follow if they exist
Moving Map Parameters = MM? These follow if they exist
MM0,Yes
MMPNUM,4
MMPXY,1,0,0
MMPXY,2,4940,0
MMPXY,3,4950,3083
MMPXY,4,0,3089
MMPLL,1, 50.939133, 12.044990
MMPLL,2, 54.319863, 12.038986
MMPLL,3, 54.319820, 9.954567
MMPLL,4, 50.954694, 9.954254
MM1B,74.379285
LL Grid Setup
LLGRID,No,No Grid,Yes,255,16711680,0,No Labels,0,16777215,7,1,Yes,x
Other Grid Setup
GRGRID,No,No Grid,Yes,255,16711680,No Labels,0,16777215,8,1,Yes,No,No,x
MOP,Map Open Position,0,0
IWH,Map Image Width/Height,2500,1250
