OziExplorer Map Data File Version 2.2
BENIN.PNG
F:\mapas\africa\Africa Oeste (rusos) 1-500.000\BENIN.PNG
1 ,Map Code,
WGS 84,, 0.0000, 0.0000,WGS 84
Reserved 1
Reserved 2
Magnetic Variation,,,E
Map Projection,Latitude/Longitude,PolyCal,Yes,AutoCalOnly,No,BSBUseWPX,No
Point01,xy, 131, 130,in, deg, 12, 0.0000,N, 0, 0.0000,E, grid, , , ,
Point02,xy, 447, 130,in, deg, 12, 0.0000,N, 2, 0.0000,E, grid, , , ,
Point03,xy, 763, 125,in, deg, 12, 0.0000,N, 4, 0.0000,E, grid, , , ,
Point04,xy, 127, 783,in, deg, 8, 0.0000,N, 0, 0.0000,E, grid, , , ,
Point05,xy, 451, 783,in, deg, 8, 0.0000,N, 2, 0.0000,E, grid, , , ,
Point06,xy, 776, 778,in, deg, 8, 0.0000,N, 4, 0.0000,E, grid, , , ,
Point07,xy, 125, 1111,in, deg, 6, 0.0000,N, 0, 0.0000,E, grid, , , ,
Point08,xy, 452, 1112,in, deg, 6, 0.0000,N, 2, 0.0000,E, grid, , , ,
Point09,xy, 780, 1107,in, deg, 6, 0.0000,N, 4, 0.0000,E, grid, , , ,
Point10,xy, , ,in, deg, , ,, , ,, grid, , , ,
Point11,xy, , ,in, deg, , ,, , ,, grid, , , ,
Point12,xy, , ,in, deg, , ,, , ,, grid, , , ,
Point13,xy, , ,in, deg, , ,, , ,, grid, , , ,
Point14,xy, , ,in, deg, , ,, , ,, grid, , , ,
Point15,xy, , ,in, deg, , ,, , ,, grid, , , ,
Point16,xy, , ,in, deg, , ,, , ,, grid, , , ,
Point17,xy, , ,in, deg, , ,, , ,, grid, , , ,
Point18,xy, , ,in, deg, , ,, , ,, grid, , , ,
Point19,xy, , ,in, deg, , ,, , ,, grid, , , ,
Point20,xy, , ,in, deg, , ,, , ,, grid, , , ,
Point21,xy, , ,in, deg, , ,, , ,, grid, , , ,
Point22,xy, , ,in, deg, , ,, , ,, grid, , , ,
Point23,xy, , ,in, deg, , ,, , ,, grid, , , ,
Point24,xy, , ,in, deg, , ,, , ,, grid, , , ,
Point25,xy, , ,in, deg, , ,, , ,, grid, , , ,
Point26,xy, , ,in, deg, , ,, , ,, grid, , , ,
Point27,xy, , ,in, deg, , ,, , ,, grid, , , ,
Point28,xy, , ,in, deg, , ,, , ,, grid, , , ,
Point29,xy, , ,in, deg, , ,, , ,, grid, , , ,
Point30,xy, , ,in, deg, , ,, , ,, grid, , , ,
Projection Setup,,,,,,,,,,
Map Feature = MF ; Map Comment = MC These follow if they exist
Track File = TF These follow if they exist
Moving Map Parameters = MM? These follow if they exist
MM0,Yes
MMPNUM,4
MMPXY,1,0,0
MMPXY,2,982,0
MMPXY,3,1013,1178
MMPXY,4,0,1187
MMPLL,1, -0.836415, 12.791175
MMPLL,2, 5.401769, 12.726210
MMPLL,3, 5.405393, 5.529402
MMPLL,4, -0.754901, 5.530424
MM1B,690.663499
LL Grid Setup
LLGRID,No,No Grid,Yes,255,16711680,0,No Labels,0,16777215,7,1,Yes,x
Other Grid Setup
GRGRID,No,No Grid,Yes,255,16711680,No Labels,0,16777215,8,1,Yes,No,No,x
MOP,Map Open Position,0,0
IWH,Map Image Width/Height,100,100
