OziExplorer Map Data File Version 2.2
BEIRUT____________3433-I36GN.PNG
F:\mapas\africa\Africa Este (rusos) 1-500.000\BEIRUT____________3433-I36GN.PNG
1 ,Map Code,
Pulkovo 1942 (1),, 0.0000, 0.0000,WGS 84
Reserved 1
Reserved 2
Magnetic Variation,,,E
Map Projection,Latitude/Longitude,PolyCal,Yes,AutoCalOnly,No,BSBUseWPX,No
Point01,xy, 91, 70,in, deg, 34, 0.0000,N, 33, 0.0000,E, grid, , , ,
Point02,xy, 1943, 82,in, deg, 34, 0.0000,N, 34, 30.0000,E, grid, , , ,
Point03,xy, 3794, 67,in, deg, 34, 0.0000,N, 36, 0.0000,E, grid, , , ,
Point04,xy, 74, 1554,in, deg, 33, 0.0000,N, 33, 0.0000,E, grid, , , ,
Point05,xy, 1946, 1567,in, deg, 33, 0.0000,N, 34, 30.0000,E, grid, , , ,
Point06,xy, 3818, 1555,in, deg, 33, 0.0000,N, 36, 0.0000,E, grid, , , ,
Point07,xy, 58, 3039,in, deg, 32, 0.0000,N, 33, 0.0000,E, grid, , , ,
Point08,xy, 1948, 3052,in, deg, 32, 0.0000,N, 34, 30.0000,E, grid, , , ,
Point09,xy, 3841, 3042,in, deg, 32, 0.0000,N, 36, 0.0000,E, grid, , , ,
Point10,xy, , ,in, deg, , ,, , ,, grid, , , ,
Point11,xy, , ,in, deg, , ,, , ,, grid, , , ,
Point12,xy, , ,in, deg, , ,, , ,, grid, , , ,
Point13,xy, , ,in, deg, , ,, , ,, grid, , , ,
Point14,xy, , ,in, deg, , ,, , ,, grid, , , ,
Point15,xy, , ,in, deg, , ,, , ,, grid, , , ,
Point16,xy, , ,in, deg, , ,, , ,, grid, , , ,
Point17,xy, , ,in, deg, , ,, , ,, grid, , , ,
Point18,xy, , ,in, deg, , ,, , ,, grid, , , ,
Point19,xy, , ,in, deg, , ,, , ,, grid, , , ,
Point20,xy, , ,in, deg, , ,, , ,, grid, , , ,
Point21,xy, , ,in, deg, , ,, , ,, grid, , , ,
Point22,xy, , ,in, deg, , ,, , ,, grid, , , ,
Point23,xy, , ,in, deg, , ,, , ,, grid, , , ,
Point24,xy, , ,in, deg, , ,, , ,, grid, , , ,
Point25,xy, , ,in, deg, , ,, , ,, grid, , , ,
Point26,xy, , ,in, deg, , ,, , ,, grid, , , ,
Point27,xy, , ,in, deg, , ,, , ,, grid, , , ,
Point28,xy, , ,in, deg, , ,, , ,, grid, , , ,
Point29,xy, , ,in, deg, , ,, , ,, grid, , , ,
Point30,xy, , ,in, deg, , ,, , ,, grid, , , ,
Projection Setup,,,,,,,,,,
Map Feature = MF ; Map Comment = MC These follow if they exist
Track File = TF These follow if they exist
Moving Map Parameters = MM? These follow if they exist
MM0,Yes
MMPNUM,4
MMPXY,1,0,0
MMPXY,2,4362,0
MMPXY,3,4423,3105
MMPXY,4,0,3108
MMPLL,1, 32.925507, 34.046466
MMPLL,2, 36.460515, 34.039148
MMPLL,3, 36.460383, 31.951933
MMPLL,4, 32.955101, 31.952626
MM1B,74.802252
LL Grid Setup
LLGRID,No,No Grid,Yes,255,16711680,0,No Labels,0,16777215,7,1,Yes,x
Other Grid Setup
GRGRID,No,No Grid,Yes,255,16711680,No Labels,0,16777215,8,1,Yes,No,No,x
MOP,Map Open Position,0,0
IWH,Map Image Width/Height,2500,1250
