OziExplorer Map Data File Version 2.2
BAWITI____________3027-H35GN.PNG
F:\mapas\africa\Africa Este (rusos) 1-500.000\BAWITI____________3027-H35GN.PNG
1 ,Map Code,
Pulkovo 1942 (1),, 0.0000, 0.0000,WGS 84
Reserved 1
Reserved 2
Magnetic Variation,,,E
Map Projection,Latitude/Longitude,PolyCal,Yes,AutoCalOnly,No,BSBUseWPX,No
Point01,xy, 97, 65,in, deg, 30, 0.0000,N, 27, 0.0000,E, grid, , , ,
Point02,xy, 2033, 81,in, deg, 30, 0.0000,N, 28, 30.0000,E, grid, , , ,
Point03,xy, 3968, 69,in, deg, 30, 0.0000,N, 30, 0.0000,E, grid, , , ,
Point04,xy, 80, 1547,in, deg, 29, 0.0000,N, 27, 0.0000,E, grid, , , ,
Point05,xy, 2034, 1561,in, deg, 29, 0.0000,N, 28, 30.0000,E, grid, , , ,
Point06,xy, 3989, 1551,in, deg, 29, 0.0000,N, 30, 0.0000,E, grid, , , ,
Point07,xy, 63, 3030,in, deg, 28, 0.0000,N, 27, 0.0000,E, grid, , , ,
Point08,xy, 2036, 3043,in, deg, 28, 0.0000,N, 28, 30.0000,E, grid, , , ,
Point09,xy, 4010, 3035,in, deg, 28, 0.0000,N, 30, 0.0000,E, grid, , , ,
Point10,xy, , ,in, deg, , ,, , ,, grid, , , ,
Point11,xy, , ,in, deg, , ,, , ,, grid, , , ,
Point12,xy, , ,in, deg, , ,, , ,, grid, , , ,
Point13,xy, , ,in, deg, , ,, , ,, grid, , , ,
Point14,xy, , ,in, deg, , ,, , ,, grid, , , ,
Point15,xy, , ,in, deg, , ,, , ,, grid, , , ,
Point16,xy, , ,in, deg, , ,, , ,, grid, , , ,
Point17,xy, , ,in, deg, , ,, , ,, grid, , , ,
Point18,xy, , ,in, deg, , ,, , ,, grid, , , ,
Point19,xy, , ,in, deg, , ,, , ,, grid, , , ,
Point20,xy, , ,in, deg, , ,, , ,, grid, , , ,
Point21,xy, , ,in, deg, , ,, , ,, grid, , , ,
Point22,xy, , ,in, deg, , ,, , ,, grid, , , ,
Point23,xy, , ,in, deg, , ,, , ,, grid, , , ,
Point24,xy, , ,in, deg, , ,, , ,, grid, , , ,
Point25,xy, , ,in, deg, , ,, , ,, grid, , , ,
Point26,xy, , ,in, deg, , ,, , ,, grid, , , ,
Point27,xy, , ,in, deg, , ,, , ,, grid, , , ,
Point28,xy, , ,in, deg, , ,, , ,, grid, , , ,
Point29,xy, , ,in, deg, , ,, , ,, grid, , , ,
Point30,xy, , ,in, deg, , ,, , ,, grid, , , ,
Projection Setup,,,,,,,,,,
Map Feature = MF ; Map Comment = MC These follow if they exist
Track File = TF These follow if they exist
Moving Map Parameters = MM? These follow if they exist
MM0,Yes
MMPNUM,4
MMPXY,1,0,1
MMPXY,2,4486,0
MMPXY,3,4540,3094
MMPXY,4,0,3095
MMPLL,1, 26.924027, 30.042787
MMPLL,2, 30.402035, 30.042306
MMPLL,3, 30.401952, 27.955272
MMPLL,4, 26.952784, 27.955294
MM1B,74.711681
LL Grid Setup
LLGRID,No,No Grid,Yes,255,16711680,0,No Labels,0,16777215,7,1,Yes,x
Other Grid Setup
GRGRID,No,No Grid,Yes,255,16711680,No Labels,0,16777215,8,1,Yes,No,No,x
MOP,Map Open Position,0,0
IWH,Map Image Width/Height,2500,1250
