OziExplorer Map Data File Version 2.2
BAUCHI____________1209-C32BN.PNG
F:\mapas\africa\Africa Oeste (rusos) 1-500.000\BAUCHI____________1209-C32BN.PNG
1 ,Map Code,
Pulkovo 1942 (1),, 0.0000, 0.0000,WGS 84
Reserved 1
Reserved 2
Magnetic Variation,,,E
Map Projection,Latitude/Longitude,PolyCal,Yes,AutoCalOnly,No,BSBUseWPX,No
Point01,xy, 102, 70,in, deg, 12, 0.0000,N, 9, 0.0000,E, grid, , , ,
Point02,xy, 2289, 78,in, deg, 12, 0.0000,N, 10, 30.0000,E, grid, , , ,
Point03,xy, 4477, 78,in, deg, 12, 0.0000,N, 12, 0.0000,E, grid, , , ,
Point04,xy, 88, 1551,in, deg, 11, 0.0000,N, 9, 0.0000,E, grid, , , ,
Point05,xy, 2283, 1562,in, deg, 11, 0.0000,N, 10, 30.0000,E, grid, , , ,
Point06,xy, 4478, 1558,in, deg, 11, 0.0000,N, 12, 0.0000,E, grid, , , ,
Point07,xy, 73, 3031,in, deg, 10, 0.0000,N, 9, 0.0000,E, grid, , , ,
Point08,xy, 2276, 3042,in, deg, 10, 0.0000,N, 10, 30.0000,E, grid, , , ,
Point09,xy, 4479, 3039,in, deg, 10, 0.0000,N, 12, 0.0000,E, grid, , , ,
Point10,xy, , ,in, deg, , ,, , ,, grid, , , ,
Point11,xy, , ,in, deg, , ,, , ,, grid, , , ,
Point12,xy, , ,in, deg, , ,, , ,, grid, , , ,
Point13,xy, , ,in, deg, , ,, , ,, grid, , , ,
Point14,xy, , ,in, deg, , ,, , ,, grid, , , ,
Point15,xy, , ,in, deg, , ,, , ,, grid, , , ,
Point16,xy, , ,in, deg, , ,, , ,, grid, , , ,
Point17,xy, , ,in, deg, , ,, , ,, grid, , , ,
Point18,xy, , ,in, deg, , ,, , ,, grid, , , ,
Point19,xy, , ,in, deg, , ,, , ,, grid, , , ,
Point20,xy, , ,in, deg, , ,, , ,, grid, , , ,
Point21,xy, , ,in, deg, , ,, , ,, grid, , , ,
Point22,xy, , ,in, deg, , ,, , ,, grid, , , ,
Point23,xy, , ,in, deg, , ,, , ,, grid, , , ,
Point24,xy, , ,in, deg, , ,, , ,, grid, , , ,
Point25,xy, , ,in, deg, , ,, , ,, grid, , , ,
Point26,xy, , ,in, deg, , ,, , ,, grid, , , ,
Point27,xy, , ,in, deg, , ,, , ,, grid, , , ,
Point28,xy, , ,in, deg, , ,, , ,, grid, , , ,
Point29,xy, , ,in, deg, , ,, , ,, grid, , , ,
Point30,xy, , ,in, deg, , ,, , ,, grid, , , ,
Projection Setup,,,,,,,,,,
Map Feature = MF ; Map Comment = MC These follow if they exist
Track File = TF These follow if they exist
Moving Map Parameters = MM? These follow if they exist
MM0,Yes
MMPNUM,4
MMPXY,1,0,0
MMPXY,2,4949,0
MMPXY,3,4954,3118
MMPXY,4,0,3112
MMPLL,1, 8.929615, 12.046326
MMPLL,2, 12.323867, 12.050587
MMPLL,3, 12.323322, 9.945251
MMPLL,4, 8.950764, 9.945194
MM1B,74.563700
LL Grid Setup
LLGRID,No,No Grid,Yes,255,16711680,0,No Labels,0,16777215,7,1,Yes,x
Other Grid Setup
GRGRID,No,No Grid,Yes,255,16711680,No Labels,0,16777215,8,1,Yes,No,No,x
MOP,Map Open Position,0,0
IWH,Map Image Width/Height,100,100
