OziExplorer Map Data File Version 2.2
BATNA_____________3606-I32AN.PNG
F:\mapas\africa\Africa Este (rusos) 1-500.000\BATNA_____________3606-I32AN.PNG
1 ,Map Code,
Pulkovo 1942 (1),, 0.0000, 0.0000,WGS 84
Reserved 1
Reserved 2
Magnetic Variation,,,E
Map Projection,Latitude/Longitude,PolyCal,Yes,AutoCalOnly,No,BSBUseWPX,No
Point01,xy, 105, 62,in, deg, 36, 0.0000,N, 6, 0.0000,E, grid, , , ,
Point02,xy, 1910, 79,in, deg, 36, 0.0000,N, 7, 30.0000,E, grid, , , ,
Point03,xy, 3716, 67,in, deg, 36, 0.0000,N, 9, 0.0000,E, grid, , , ,
Point04,xy, 83, 1550,in, deg, 35, 0.0000,N, 6, 0.0000,E, grid, , , ,
Point05,xy, 1910, 1566,in, deg, 35, 0.0000,N, 7, 30.0000,E, grid, , , ,
Point06,xy, 3738, 1553,in, deg, 35, 0.0000,N, 9, 0.0000,E, grid, , , ,
Point07,xy, 62, 3036,in, deg, 34, 0.0000,N, 6, 0.0000,E, grid, , , ,
Point08,xy, 1911, 3052,in, deg, 34, 0.0000,N, 7, 30.0000,E, grid, , , ,
Point09,xy, 3760, 3041,in, deg, 34, 0.0000,N, 9, 0.0000,E, grid, , , ,
Point10,xy, , ,in, deg, , ,, , ,, grid, , , ,
Point11,xy, , ,in, deg, , ,, , ,, grid, , , ,
Point12,xy, , ,in, deg, , ,, , ,, grid, , , ,
Point13,xy, , ,in, deg, , ,, , ,, grid, , , ,
Point14,xy, , ,in, deg, , ,, , ,, grid, , , ,
Point15,xy, , ,in, deg, , ,, , ,, grid, , , ,
Point16,xy, , ,in, deg, , ,, , ,, grid, , , ,
Point17,xy, , ,in, deg, , ,, , ,, grid, , , ,
Point18,xy, , ,in, deg, , ,, , ,, grid, , , ,
Point19,xy, , ,in, deg, , ,, , ,, grid, , , ,
Point20,xy, , ,in, deg, , ,, , ,, grid, , , ,
Point21,xy, , ,in, deg, , ,, , ,, grid, , , ,
Point22,xy, , ,in, deg, , ,, , ,, grid, , , ,
Point23,xy, , ,in, deg, , ,, , ,, grid, , , ,
Point24,xy, , ,in, deg, , ,, , ,, grid, , , ,
Point25,xy, , ,in, deg, , ,, , ,, grid, , , ,
Point26,xy, , ,in, deg, , ,, , ,, grid, , , ,
Point27,xy, , ,in, deg, , ,, , ,, grid, , , ,
Point28,xy, , ,in, deg, , ,, , ,, grid, , , ,
Point29,xy, , ,in, deg, , ,, , ,, grid, , , ,
Point30,xy, , ,in, deg, , ,, , ,, grid, , , ,
Projection Setup,,,,,,,,,,
Map Feature = MF ; Map Comment = MC These follow if they exist
Track File = TF These follow if they exist
Moving Map Parameters = MM? These follow if they exist
MM0,Yes
MMPNUM,4
MMPXY,1,0,1
MMPXY,2,4182,0
MMPXY,3,4240,3119
MMPXY,4,0,3121
MMPLL,1, 5.912074, 36.040081
MMPLL,2, 9.387840, 36.039716
MMPLL,3, 9.387730, 33.941967
MMPLL,4, 5.950670, 33.942208
MM1B,74.873889
LL Grid Setup
LLGRID,No,No Grid,Yes,255,16711680,0,No Labels,0,16777215,7,1,Yes,x
Other Grid Setup
GRGRID,No,No Grid,Yes,255,16711680,No Labels,0,16777215,8,1,Yes,No,No,x
MOP,Map Open Position,0,0
IWH,Map Image Width/Height,2500,1250
