OziExplorer Map Data File Version 2.2
BARDIYAH__________3224-H35AN.PNG
F:\mapas\africa\Africa Este (rusos) 1-500.000\BARDIYAH__________3224-H35AN.PNG
1 ,Map Code,
Pulkovo 1942 (1),, 0.0000, 0.0000,WGS 84
Reserved 1
Reserved 2
Magnetic Variation,,,E
Map Projection,Latitude/Longitude,PolyCal,Yes,AutoCalOnly,No,BSBUseWPX,No
Point01,xy, 102, 60,in, deg, 32, 0.0000,N, 24, 0.0000,E, grid, , , ,
Point02,xy, 1996, 80,in, deg, 32, 0.0000,N, 25, 30.0000,E, grid, , , ,
Point03,xy, 3887, 68,in, deg, 32, 0.0000,N, 27, 0.0000,E, grid, , , ,
Point04,xy, 79, 1542,in, deg, 31, 0.0000,N, 24, 0.0000,E, grid, , , ,
Point05,xy, 1994, 1559,in, deg, 31, 0.0000,N, 25, 30.0000,E, grid, , , ,
Point06,xy, 3905, 1551,in, deg, 31, 0.0000,N, 27, 0.0000,E, grid, , , ,
Point07,xy, 58, 3024,in, deg, 30, 0.0000,N, 24, 0.0000,E, grid, , , ,
Point08,xy, 1992, 3040,in, deg, 30, 0.0000,N, 25, 30.0000,E, grid, , , ,
Point09,xy, 3923, 3033,in, deg, 30, 0.0000,N, 27, 0.0000,E, grid, , , ,
Point10,xy, , ,in, deg, , ,, , ,, grid, , , ,
Point11,xy, , ,in, deg, , ,, , ,, grid, , , ,
Point12,xy, , ,in, deg, , ,, , ,, grid, , , ,
Point13,xy, , ,in, deg, , ,, , ,, grid, , , ,
Point14,xy, , ,in, deg, , ,, , ,, grid, , , ,
Point15,xy, , ,in, deg, , ,, , ,, grid, , , ,
Point16,xy, , ,in, deg, , ,, , ,, grid, , , ,
Point17,xy, , ,in, deg, , ,, , ,, grid, , , ,
Point18,xy, , ,in, deg, , ,, , ,, grid, , , ,
Point19,xy, , ,in, deg, , ,, , ,, grid, , , ,
Point20,xy, , ,in, deg, , ,, , ,, grid, , , ,
Point21,xy, , ,in, deg, , ,, , ,, grid, , , ,
Point22,xy, , ,in, deg, , ,, , ,, grid, , , ,
Point23,xy, , ,in, deg, , ,, , ,, grid, , , ,
Point24,xy, , ,in, deg, , ,, , ,, grid, , , ,
Point25,xy, , ,in, deg, , ,, , ,, grid, , , ,
Point26,xy, , ,in, deg, , ,, , ,, grid, , , ,
Point27,xy, , ,in, deg, , ,, , ,, grid, , , ,
Point28,xy, , ,in, deg, , ,, , ,, grid, , , ,
Point29,xy, , ,in, deg, , ,, , ,, grid, , , ,
Point30,xy, , ,in, deg, , ,, , ,, grid, , , ,
Projection Setup,,,,,,,,,,
Map Feature = MF ; Map Comment = MC These follow if they exist
Track File = TF These follow if they exist
Moving Map Parameters = MM? These follow if they exist
MM0,Yes
MMPNUM,4
MMPXY,1,0,0
MMPXY,2,4352,2
MMPXY,3,4400,3099
MMPXY,4,0,3094
MMPLL,1, 23.918733, 32.039909
MMPLL,2, 27.369893, 32.040900
MMPLL,3, 27.369944, 29.950892
MMPLL,4, 23.956056, 29.951659
MM1B,74.683443
LL Grid Setup
LLGRID,No,No Grid,Yes,255,16711680,0,No Labels,0,16777215,7,1,Yes,x
Other Grid Setup
GRGRID,No,No Grid,Yes,255,16711680,No Labels,0,16777215,8,1,Yes,No,No,x
MOP,Map Open Position,0,0
IWH,Map Image Width/Height,2500,1250
