OziExplorer Map Data File Version 2.2
BANJUL____________1418-D28WN.PNG
F:\mapas\africa\Africa Oeste (rusos) 1-500.000\BANJUL____________1418-D28WN.PNG
1 ,Map Code,
Pulkovo 1942 (1),, 0.0000, 0.0000,WGS 84
Reserved 1
Reserved 2
Magnetic Variation,,,E
Map Projection,Latitude/Longitude,PolyCal,Yes,AutoCalOnly,No,BSBUseWPX,No
Point01,xy, 97, 69,in, deg, 14, 0.0000,N, 18, 0.0000,W, grid, , , ,
Point02,xy, 2273, 85,in, deg, 14, 0.0000,N, 16, 30.0000,W, grid, , , ,
Point03,xy, 4450, 84,in, deg, 14, 0.0000,N, 15, 0.0000,W, grid, , , ,
Point04,xy, 85, 1550,in, deg, 13, 0.0000,N, 18, 0.0000,W, grid, , , ,
Point05,xy, 2271, 1564,in, deg, 13, 0.0000,N, 16, 30.0000,W, grid, , , ,
Point06,xy, 4456, 1566,in, deg, 13, 0.0000,N, 15, 0.0000,W, grid, , , ,
Point07,xy, 78, 3035,in, deg, 12, 0.0000,N, 18, 0.0000,W, grid, , , ,
Point08,xy, 2271, 3045,in, deg, 12, 0.0000,N, 16, 30.0000,W, grid, , , ,
Point09,xy, 4464, 3043,in, deg, 12, 0.0000,N, 15, 0.0000,W, grid, , , ,
Point10,xy, , ,in, deg, , ,, , ,, grid, , , ,
Point11,xy, , ,in, deg, , ,, , ,, grid, , , ,
Point12,xy, , ,in, deg, , ,, , ,, grid, , , ,
Point13,xy, , ,in, deg, , ,, , ,, grid, , , ,
Point14,xy, , ,in, deg, , ,, , ,, grid, , , ,
Point15,xy, , ,in, deg, , ,, , ,, grid, , , ,
Point16,xy, , ,in, deg, , ,, , ,, grid, , , ,
Point17,xy, , ,in, deg, , ,, , ,, grid, , , ,
Point18,xy, , ,in, deg, , ,, , ,, grid, , , ,
Point19,xy, , ,in, deg, , ,, , ,, grid, , , ,
Point20,xy, , ,in, deg, , ,, , ,, grid, , , ,
Point21,xy, , ,in, deg, , ,, , ,, grid, , , ,
Point22,xy, , ,in, deg, , ,, , ,, grid, , , ,
Point23,xy, , ,in, deg, , ,, , ,, grid, , , ,
Point24,xy, , ,in, deg, , ,, , ,, grid, , , ,
Point25,xy, , ,in, deg, , ,, , ,, grid, , , ,
Point26,xy, , ,in, deg, , ,, , ,, grid, , , ,
Point27,xy, , ,in, deg, , ,, , ,, grid, , , ,
Point28,xy, , ,in, deg, , ,, , ,, grid, , , ,
Point29,xy, , ,in, deg, , ,, , ,, grid, , , ,
Point30,xy, , ,in, deg, , ,, , ,, grid, , , ,
Projection Setup,,,,,,,,,,
Map Feature = MF ; Map Comment = MC These follow if they exist
Track File = TF These follow if they exist
Moving Map Parameters = MM? These follow if they exist
MM0,Yes
MMPNUM,4
MMPXY,1,0,0
MMPXY,2,4964,2
MMPXY,3,4983,3114
MMPXY,4,0,3106
MMPLL,1, -18.066961, 14.045748
MMPLL,2, -14.645633, 14.055228
MMPLL,3, -14.645627, 11.950632
MMPLL,4, -18.052952, 11.950986
MM1B,74.323039
LL Grid Setup
LLGRID,No,No Grid,Yes,255,16711680,0,No Labels,0,16777215,7,1,Yes,x
Other Grid Setup
GRGRID,No,No Grid,Yes,255,16711680,No Labels,0,16777215,8,1,Yes,No,No,x
MOP,Map Open Position,0,0
IWH,Map Image Width/Height,100,100
