OziExplorer Map Data File Version 2.2
BANGUI____________0618-B34WN.PNG
F:\mapas\africa\Africa Este (rusos) 1-500.000\BANGUI____________0618-B34WN.PNG
1 ,Map Code,
Pulkovo 1942 (1),, 0.0000, 0.0000,WGS 84
Reserved 1
Reserved 2
Magnetic Variation,,,E
Map Projection,Latitude/Longitude,PolyCal,Yes,AutoCalOnly,No,BSBUseWPX,No
Point01,xy, 57, 69,in, deg, 6, 0.0000,N, 18, 0.0000,E, grid, , , ,
Point02,xy, 2286, 70,in, deg, 6, 0.0000,N, 19, 30.0000,E, grid, , , ,
Point03,xy, 4512, 66,in, deg, 6, 0.0000,N, 21, 0.0000,E, grid, , , ,
Point04,xy, 60, 1552,in, deg, 5, 0.0000,N, 18, 0.0000,E, grid, , , ,
Point05,xy, 2290, 1552,in, deg, 5, 0.0000,N, 19, 30.0000,E, grid, , , ,
Point06,xy, 4520, 1546,in, deg, 5, 0.0000,N, 21, 0.0000,E, grid, , , ,
Point07,xy, 63, 3035,in, deg, 4, 0.0000,N, 18, 0.0000,E, grid, , , ,
Point08,xy, 2296, 3031,in, deg, 4, 0.0000,N, 19, 30.0000,E, grid, , , ,
Point09,xy, 4528, 3027,in, deg, 4, 0.0000,N, 21, 0.0000,E, grid, , , ,
Point10,xy, , ,in, deg, , ,, , ,, grid, , , ,
Point11,xy, , ,in, deg, , ,, , ,, grid, , , ,
Point12,xy, , ,in, deg, , ,, , ,, grid, , , ,
Point13,xy, , ,in, deg, , ,, , ,, grid, , , ,
Point14,xy, , ,in, deg, , ,, , ,, grid, , , ,
Point15,xy, , ,in, deg, , ,, , ,, grid, , , ,
Point16,xy, , ,in, deg, , ,, , ,, grid, , , ,
Point17,xy, , ,in, deg, , ,, , ,, grid, , , ,
Point18,xy, , ,in, deg, , ,, , ,, grid, , , ,
Point19,xy, , ,in, deg, , ,, , ,, grid, , , ,
Point20,xy, , ,in, deg, , ,, , ,, grid, , , ,
Point21,xy, , ,in, deg, , ,, , ,, grid, , , ,
Point22,xy, , ,in, deg, , ,, , ,, grid, , , ,
Point23,xy, , ,in, deg, , ,, , ,, grid, , , ,
Point24,xy, , ,in, deg, , ,, , ,, grid, , , ,
Point25,xy, , ,in, deg, , ,, , ,, grid, , , ,
Point26,xy, , ,in, deg, , ,, , ,, grid, , , ,
Point27,xy, , ,in, deg, , ,, , ,, grid, , , ,
Point28,xy, , ,in, deg, , ,, , ,, grid, , , ,
Point29,xy, , ,in, deg, , ,, , ,, grid, , , ,
Point30,xy, , ,in, deg, , ,, , ,, grid, , , ,
Projection Setup,,,,,,,,,,
Map Feature = MF ; Map Comment = MC These follow if they exist
Track File = TF These follow if they exist
Moving Map Parameters = MM? These follow if they exist
MM0,Yes
MMPNUM,4
MMPXY,1,0,0
MMPXY,2,4993,0
MMPXY,3,5010,3092
MMPXY,4,0,3103
MMPLL,1, 17.961518, 6.046687
MMPLL,2, 21.324161, 6.043849
MMPLL,3, 21.323826, 3.954397
MMPLL,4, 17.957627, 3.953765
MM1B,74.377839
LL Grid Setup
LLGRID,No,No Grid,Yes,255,16711680,0,No Labels,0,16777215,7,1,Yes,x
Other Grid Setup
GRGRID,No,No Grid,Yes,255,16711680,No Labels,0,16777215,8,1,Yes,No,No,x
MOP,Map Open Position,0,0
IWH,Map Image Width/Height,2500,1250
