OziExplorer Map Data File Version 2.2
BANDUNDU__________0215-A33GS.PNG
F:\mapas\africa\Africa Oeste (rusos) 1-500.000\BANDUNDU__________0215-A33GS.PNG
1 ,Map Code,
Pulkovo 1942 (1),, 0.0000, 0.0000,WGS 84
Reserved 1
Reserved 2
Magnetic Variation,,,E
Map Projection,Latitude/Longitude,PolyCal,Yes,AutoCalOnly,No,BSBUseWPX,No
Point01,xy, 71, 71,in, deg, 2, 0.0000,S, 15, 0.0000,E, grid, , , ,
Point02,xy, 2310, 69,in, deg, 2, 0.0000,S, 16, 30.0000,E, grid, , , ,
Point03,xy, 4550, 74,in, deg, 2, 0.0000,S, 18, 0.0000,E, grid, , , ,
Point04,xy, 69, 1550,in, deg, 3, 0.0000,S, 15, 0.0000,E, grid, , , ,
Point05,xy, 2307, 1550,in, deg, 3, 0.0000,S, 16, 30.0000,E, grid, , , ,
Point06,xy, 4543, 1553,in, deg, 3, 0.0000,S, 18, 0.0000,E, grid, , , ,
Point07,xy, 69, 3030,in, deg, 4, 0.0000,S, 15, 0.0000,E, grid, , , ,
Point08,xy, 2305, 3031,in, deg, 4, 0.0000,S, 16, 30.0000,E, grid, , , ,
Point09,xy, 4538, 3031,in, deg, 4, 0.0000,S, 18, 0.0000,E, grid, , , ,
Point10,xy, , ,in, deg, , ,, , ,, grid, , , ,
Point11,xy, , ,in, deg, , ,, , ,, grid, , , ,
Point12,xy, , ,in, deg, , ,, , ,, grid, , , ,
Point13,xy, , ,in, deg, , ,, , ,, grid, , , ,
Point14,xy, , ,in, deg, , ,, , ,, grid, , , ,
Point15,xy, , ,in, deg, , ,, , ,, grid, , , ,
Point16,xy, , ,in, deg, , ,, , ,, grid, , , ,
Point17,xy, , ,in, deg, , ,, , ,, grid, , , ,
Point18,xy, , ,in, deg, , ,, , ,, grid, , , ,
Point19,xy, , ,in, deg, , ,, , ,, grid, , , ,
Point20,xy, , ,in, deg, , ,, , ,, grid, , , ,
Point21,xy, , ,in, deg, , ,, , ,, grid, , , ,
Point22,xy, , ,in, deg, , ,, , ,, grid, , , ,
Point23,xy, , ,in, deg, , ,, , ,, grid, , , ,
Point24,xy, , ,in, deg, , ,, , ,, grid, , , ,
Point25,xy, , ,in, deg, , ,, , ,, grid, , , ,
Point26,xy, , ,in, deg, , ,, , ,, grid, , , ,
Point27,xy, , ,in, deg, , ,, , ,, grid, , , ,
Point28,xy, , ,in, deg, , ,, , ,, grid, , , ,
Point29,xy, , ,in, deg, , ,, , ,, grid, , , ,
Point30,xy, , ,in, deg, , ,, , ,, grid, , , ,
Projection Setup,,,,,,,,,,
Map Feature = MF ; Map Comment = MC These follow if they exist
Track File = TF These follow if they exist
Moving Map Parameters = MM? These follow if they exist
MM0,Yes
MMPNUM,4
MMPXY,1,0,0
MMPXY,2,5030,0
MMPXY,3,5017,3092
MMPXY,4,0,3090
MMPLL,1, 14.952661, -1.952566
MMPLL,2, 18.321706, -1.949583
MMPLL,3, 18.321696, -4.040101
MMPLL,4, 14.953493, -4.040148
MM1B,74.337156
LL Grid Setup
LLGRID,No,No Grid,Yes,255,16711680,0,No Labels,0,16777215,7,1,Yes,x
Other Grid Setup
GRGRID,No,No Grid,Yes,255,16711680,No Labels,0,16777215,8,1,Yes,No,No,x
MOP,Map Open Position,0,0
IWH,Map Image Width/Height,100,100
