OziExplorer Map Data File Version 2.2
BAARDHEERE________0442-A38AN.PNG
F:\mapas\africa\Africa Este (rusos) 1-500.000\BAARDHEERE________0442-A38AN.PNG
1 ,Map Code,
Pulkovo 1942 (1),, 0.0000, 0.0000,WGS 84
Reserved 1
Reserved 2
Magnetic Variation,,,E
Map Projection,Latitude/Longitude,PolyCal,Yes,AutoCalOnly,No,BSBUseWPX,No
Point01,xy, 74, 71,in, deg, 4, 0.0000,N, 42, 0.0000,E, grid, , , ,
Point02,xy, 2313, 73,in, deg, 4, 0.0000,N, 43, 30.0000,E, grid, , , ,
Point03,xy, 4551, 66,in, deg, 4, 0.0000,N, 45, 0.0000,E, grid, , , ,
Point04,xy, 72, 1554,in, deg, 3, 0.0000,N, 42, 0.0000,E, grid, , , ,
Point05,xy, 2313, 1548,in, deg, 3, 0.0000,N, 43, 30.0000,E, grid, , , ,
Point06,xy, 4553, 1541,in, deg, 3, 0.0000,N, 45, 0.0000,E, grid, , , ,
Point07,xy, 71, 3036,in, deg, 2, 0.0000,N, 42, 0.0000,E, grid, , , ,
Point08,xy, 2316, 3029,in, deg, 2, 0.0000,N, 43, 30.0000,E, grid, , , ,
Point09,xy, 4556, 3020,in, deg, 2, 0.0000,N, 45, 0.0000,E, grid, , , ,
Point10,xy, , ,in, deg, , ,, , ,, grid, , , ,
Point11,xy, , ,in, deg, , ,, , ,, grid, , , ,
Point12,xy, , ,in, deg, , ,, , ,, grid, , , ,
Point13,xy, , ,in, deg, , ,, , ,, grid, , , ,
Point14,xy, , ,in, deg, , ,, , ,, grid, , , ,
Point15,xy, , ,in, deg, , ,, , ,, grid, , , ,
Point16,xy, , ,in, deg, , ,, , ,, grid, , , ,
Point17,xy, , ,in, deg, , ,, , ,, grid, , , ,
Point18,xy, , ,in, deg, , ,, , ,, grid, , , ,
Point19,xy, , ,in, deg, , ,, , ,, grid, , , ,
Point20,xy, , ,in, deg, , ,, , ,, grid, , , ,
Point21,xy, , ,in, deg, , ,, , ,, grid, , , ,
Point22,xy, , ,in, deg, , ,, , ,, grid, , , ,
Point23,xy, , ,in, deg, , ,, , ,, grid, , , ,
Point24,xy, , ,in, deg, , ,, , ,, grid, , , ,
Point25,xy, , ,in, deg, , ,, , ,, grid, , , ,
Point26,xy, , ,in, deg, , ,, , ,, grid, , , ,
Point27,xy, , ,in, deg, , ,, , ,, grid, , , ,
Point28,xy, , ,in, deg, , ,, , ,, grid, , , ,
Point29,xy, , ,in, deg, , ,, , ,, grid, , , ,
Point30,xy, , ,in, deg, , ,, , ,, grid, , , ,
Projection Setup,,,,,,,,,,
Map Feature = MF ; Map Comment = MC These follow if they exist
Track File = TF These follow if they exist
Moving Map Parameters = MM? These follow if they exist
MM0,Yes
MMPNUM,4
MMPXY,1,0,1
MMPXY,2,5055,0
MMPXY,3,5062,3099
MMPXY,4,0,3119
MMPLL,1, 41.950520, 4.048151
MMPLL,2, 45.338314, 4.043969
MMPLL,3, 45.338369, 1.944111
MMPLL,4, 41.952244, 1.944260
MM1B,74.203934
LL Grid Setup
LLGRID,No,No Grid,Yes,255,16711680,0,No Labels,0,16777215,7,1,Yes,x
Other Grid Setup
GRGRID,No,No Grid,Yes,255,16711680,No Labels,0,16777215,8,1,Yes,No,No,x
MOP,Map Open Position,0,0
IWH,Map Image Width/Height,2500,1250
